BEGIN:VCALENDAR
VERSION:2.0
PRODID:-//Victory Cigars - ECPv6.15.20//NONSGML v1.0//EN
CALSCALE:GREGORIAN
METHOD:PUBLISH
X-ORIGINAL-URL:https://victorycigars.ca
X-WR-CALDESC:Events for Victory Cigars
REFRESH-INTERVAL;VALUE=DURATION:PT1H
X-Robots-Tag:noindex
X-PUBLISHED-TTL:PT1H
BEGIN:VTIMEZONE
TZID:America/Toronto
BEGIN:DAYLIGHT
TZOFFSETFROM:-0500
TZOFFSETTO:-0400
TZNAME:EDT
DTSTART:20250309T070000
END:DAYLIGHT
BEGIN:STANDARD
TZOFFSETFROM:-0400
TZOFFSETTO:-0500
TZNAME:EST
DTSTART:20251102T060000
END:STANDARD
BEGIN:DAYLIGHT
TZOFFSETFROM:-0500
TZOFFSETTO:-0400
TZNAME:EDT
DTSTART:20260308T070000
END:DAYLIGHT
BEGIN:STANDARD
TZOFFSETFROM:-0400
TZOFFSETTO:-0500
TZNAME:EST
DTSTART:20261101T060000
END:STANDARD
BEGIN:DAYLIGHT
TZOFFSETFROM:-0500
TZOFFSETTO:-0400
TZNAME:EDT
DTSTART:20270314T070000
END:DAYLIGHT
BEGIN:STANDARD
TZOFFSETFROM:-0400
TZOFFSETTO:-0500
TZNAME:EST
DTSTART:20271107T060000
END:STANDARD
END:VTIMEZONE
BEGIN:VEVENT
DTSTART;TZID=America/Toronto:20260214T120000
DTEND;TZID=America/Toronto:20260214T160000
DTSTAMP:20260421T043057
CREATED:20260116T214606Z
LAST-MODIFIED:20260116T214606Z
UID:230792-1771070400-1771084800@victorycigars.ca
SUMMARY:The Matilde Valentine's Day Affair
DESCRIPTION:This Valentine’s Day\, fall a little harder for good cigars. \nOn Saturday\, February 14th\, we invite you to spend the afternoon with a house worth loving: Matilde. \nFrom 12–4pm at Victory Cigars\, join us for a relaxed in-store event hosted by Tom from Brigham — an easygoing opportunity to explore what makes Matilde cigars so enduringly admired. \nFeatured for the day:\n• Renacer Grande• Quadrata Robusto• Oscura Robusto• Serena Maduro Toro• Serena Robusto \nAll single cigars will be offered at a special event price — because some pleasures deserve a little generosity. In addition a 25% savings off the regular price on the sampler pack will be offered. \nAdding to the afternoon\, Little Beasts Brewery will be in the house for an Anchors & Ales tie-in\, bringing along well-made beers to complement the occasion. \nValentine’s Day doesn’t have to be loud to be meaningful. Sometimes it’s about good craftsmanship\, good company\, and taking the time to enjoy something you genuinely love. \nSpend the afternoon with us — and let Matilde do the rest.
URL:https://victorycigars.ca/event/the-matilde-valentines-day-affair/
LOCATION:Victory Cigars Inc\, 215 KING STREET EAST\, OSHAWA\, ONTARIO\, L1H1C5\, Canada
CATEGORIES:Anchors & Ales,Cigar Event,Cigar Specials,In Store Event,In Store SALE
ATTACH;FMTTYPE=image/png:https://victorycigars.ca/wp-content/uploads/2026/01/The-Matilde-Valentines-Day-Affair-e1768599913944.png
ORGANIZER;CN="Victory Cigars":MAILTO:gillian@victorycigars.ca
END:VEVENT
END:VCALENDAR