BEGIN:VCALENDAR
VERSION:2.0
PRODID:-//Victory Cigars - ECPv6.15.20//NONSGML v1.0//EN
CALSCALE:GREGORIAN
METHOD:PUBLISH
X-WR-CALNAME:Victory Cigars
X-ORIGINAL-URL:https://victorycigars.ca
X-WR-CALDESC:Events for Victory Cigars
REFRESH-INTERVAL;VALUE=DURATION:PT1H
X-Robots-Tag:noindex
X-PUBLISHED-TTL:PT1H
BEGIN:VTIMEZONE
TZID:America/Toronto
BEGIN:DAYLIGHT
TZOFFSETFROM:-0500
TZOFFSETTO:-0400
TZNAME:EDT
DTSTART:20240310T070000
END:DAYLIGHT
BEGIN:STANDARD
TZOFFSETFROM:-0400
TZOFFSETTO:-0500
TZNAME:EST
DTSTART:20241103T060000
END:STANDARD
BEGIN:DAYLIGHT
TZOFFSETFROM:-0500
TZOFFSETTO:-0400
TZNAME:EDT
DTSTART:20250309T070000
END:DAYLIGHT
BEGIN:STANDARD
TZOFFSETFROM:-0400
TZOFFSETTO:-0500
TZNAME:EST
DTSTART:20251102T060000
END:STANDARD
BEGIN:DAYLIGHT
TZOFFSETFROM:-0500
TZOFFSETTO:-0400
TZNAME:EDT
DTSTART:20260308T070000
END:DAYLIGHT
BEGIN:STANDARD
TZOFFSETFROM:-0400
TZOFFSETTO:-0500
TZNAME:EST
DTSTART:20261101T060000
END:STANDARD
END:VTIMEZONE
BEGIN:VEVENT
DTSTART;TZID=America/Toronto:20250528T160000
DTEND;TZID=America/Toronto:20250528T200000
DTSTAMP:20260425T100357
CREATED:20250303T174337Z
LAST-MODIFIED:20250506T180715Z
UID:196326-1748448000-1748462400@victorycigars.ca
SUMMARY:Save the Date: Meet Alejandro Turrent of Casa Turrent!
DESCRIPTION:Mark your calendars\, cigar aficionados! \nVictory Cigars is thrilled to announce a special event featuring the esteemed Alejandro Turrent of Casa Turrent\, the renowned Mexican cigar brand. Join us on Wednesday\, May 28th\, from 4:00 PM to 8:00 PM for an afternoon of premium cigars and unparalleled expertise. \nThis is your exclusive opportunity to: \n\nMeet Alejandro Turrent: Engage with the master cigar maker behind the exquisite Casa Turrent blends. Learn about the rich history and meticulous craftsmanship that goes into each cigar.\nExplore Casa Turrent: Discover the diverse range of Casa Turrent cigars and find your new favourites.\nEnjoy Exclusive Deals: Take advantage of special promotions and discounts on Casa Turrent cigars\, available only during the event.\nWin Exciting Prizes: Participate in our draws and contests for a chance to win fantastic cigar-related prizes.\n\nThis is a must-attend event for any cigar enthusiast. Don’t miss this unique opportunity to connect with Alejandro Turrent and experience the exceptional quality of Casa Turrent cigars. \n\nALEJANDRO TURRENT\nPRESIDENT – Casa Turrent\nPresident of Casa Turrent and Guardian of Mexican Tobacco \n \nAlejandro Turrent is the fifth-generation leader of Mexico’s most celebrated tobacco family\,\nwhose legacy in cultivation dates back to 1880. As President of Casa Turrent\, Alejandro has\nplayed a pivotal role in bringing Mexican cigars to global prominence—most notably through\nthe acclaimed San Andrés Maduro wrapper\, widely considered one of the finest in the world.\nUnder his leadership\, the Turrent family’s 2\,000-acre estate has become a cornerstone of\npremium cigar production. Their tobacco\, once reserved for iconic brands like Montecristo\,\nPadrón\, and Macanudo\, now powers Casa Turrent’s own award-winning lines such as the Serie\n1901 and 1880. Alejandro is known for honouring his family’s rich tradition while continuously\ninnovating blends that showcase the depth and elegance of Mexican-grown tobacco. \n\nSave the date: Wednesday May 28th from 4:00pm to 8:00pm at Victory Cigars! \nMore details\, including specific deals and prize information\, will be released soon. Stay tuned to our website and social media channels for updates. \nWe look forward to seeing you there!
URL:https://victorycigars.ca/event/save-the-date-meet-alejandro-turrent-of-casa-turrent/
LOCATION:Victory Cigars Inc\, 215 KING STREET EAST\, OSHAWA\, ONTARIO\, L1H1C5\, Canada
CATEGORIES:Cigar Event,Cigar Specials,In Store Event,Special Event
ATTACH;FMTTYPE=image/png:https://victorycigars.ca/wp-content/uploads/2025/03/Alejandro-Turrent-revised.png
END:VEVENT
END:VCALENDAR