BEGIN:VCALENDAR
VERSION:2.0
PRODID:-//Victory Cigars - ECPv6.15.20//NONSGML v1.0//EN
CALSCALE:GREGORIAN
METHOD:PUBLISH
X-WR-CALNAME:Victory Cigars
X-ORIGINAL-URL:https://victorycigars.ca
X-WR-CALDESC:Events for Victory Cigars
REFRESH-INTERVAL;VALUE=DURATION:PT1H
X-Robots-Tag:noindex
X-PUBLISHED-TTL:PT1H
BEGIN:VTIMEZONE
TZID:America/Toronto
BEGIN:DAYLIGHT
TZOFFSETFROM:-0500
TZOFFSETTO:-0400
TZNAME:EDT
DTSTART:20250309T070000
END:DAYLIGHT
BEGIN:STANDARD
TZOFFSETFROM:-0400
TZOFFSETTO:-0500
TZNAME:EST
DTSTART:20251102T060000
END:STANDARD
BEGIN:DAYLIGHT
TZOFFSETFROM:-0500
TZOFFSETTO:-0400
TZNAME:EDT
DTSTART:20260308T070000
END:DAYLIGHT
BEGIN:STANDARD
TZOFFSETFROM:-0400
TZOFFSETTO:-0500
TZNAME:EST
DTSTART:20261101T060000
END:STANDARD
BEGIN:DAYLIGHT
TZOFFSETFROM:-0500
TZOFFSETTO:-0400
TZNAME:EDT
DTSTART:20270314T070000
END:DAYLIGHT
BEGIN:STANDARD
TZOFFSETFROM:-0400
TZOFFSETTO:-0500
TZNAME:EST
DTSTART:20271107T060000
END:STANDARD
END:VTIMEZONE
BEGIN:VEVENT
DTSTART;TZID=America/Toronto:20260307T120000
DTEND;TZID=America/Toronto:20260307T160000
DTSTAMP:20260421T040748
CREATED:20260203T200844Z
LAST-MODIFIED:20260305T164008Z
UID:233205-1772884800-1772899200@victorycigars.ca
SUMMARY:Esteban Carrera Afternoon with Christopher Mey
DESCRIPTION:Saturday\, March 712:00 – 4:00 PM \nJoin Christopher Mey for an afternoon centred around Esteban Carreras cigars. \nThis relaxed\, open-house style event offers a chance to spend time in good company\, explore the Esteban Carrera portfolio\, and enjoy conversation rooted in craft\, balance\, and the rituals that surround fine cigars. \nEsteban Carreras is a boutique cigar manufacturer based at Tabacaleras Carreras in Estelí\, Nicaragua. Working at the heart of one of the world’s great cigar regions\, the brand is known for its thoughtful use of Nicaraguan tobaccos\, with many blends crafted as 100% Nicaraguan puros. \nThe factory’s small-batch approach allows for close attention to detail\, resulting in cigars recognized for their depth of flavour\, steady strength\, and careful construction. Blends such as Chupacabra and Covenant have earned regular rotation among seasoned smokers\, reflecting a profile that builds gradually and rewards a slower cadence. \nThe Esteban Carreras portfolio is valued for offering character and complexity without excess\, making it a natural choice for those who appreciate craftsmanship\, balance\, and honest flavour. \nSee you there!
URL:https://victorycigars.ca/event/esteban-carrera-afternoon-with-christopher-mey/
LOCATION:Victory Cigars Inc\, 215 KING STREET EAST\, OSHAWA\, ONTARIO\, L1H1C5\, Canada
CATEGORIES:Cigar Event,In Store Event,Special Event
ATTACH;FMTTYPE=image/png:https://victorycigars.ca/wp-content/uploads/2026/02/Christopher-mey-15-e1770750153461.png
ORGANIZER;CN="Victory Cigars":MAILTO:gillian@victorycigars.ca
END:VEVENT
END:VCALENDAR