BEGIN:VCALENDAR
VERSION:2.0
PRODID:-//Victory Cigars - ECPv6.15.20//NONSGML v1.0//EN
CALSCALE:GREGORIAN
METHOD:PUBLISH
X-WR-CALNAME:Victory Cigars
X-ORIGINAL-URL:https://victorycigars.ca
X-WR-CALDESC:Events for Victory Cigars
REFRESH-INTERVAL;VALUE=DURATION:PT1H
X-Robots-Tag:noindex
X-PUBLISHED-TTL:PT1H
BEGIN:VTIMEZONE
TZID:America/Toronto
BEGIN:DAYLIGHT
TZOFFSETFROM:-0500
TZOFFSETTO:-0400
TZNAME:EDT
DTSTART:20160313T070000
END:DAYLIGHT
BEGIN:STANDARD
TZOFFSETFROM:-0400
TZOFFSETTO:-0500
TZNAME:EST
DTSTART:20161106T060000
END:STANDARD
BEGIN:DAYLIGHT
TZOFFSETFROM:-0500
TZOFFSETTO:-0400
TZNAME:EDT
DTSTART:20170312T070000
END:DAYLIGHT
BEGIN:STANDARD
TZOFFSETFROM:-0400
TZOFFSETTO:-0500
TZNAME:EST
DTSTART:20171105T060000
END:STANDARD
BEGIN:DAYLIGHT
TZOFFSETFROM:-0500
TZOFFSETTO:-0400
TZNAME:EDT
DTSTART:20180311T070000
END:DAYLIGHT
BEGIN:STANDARD
TZOFFSETFROM:-0400
TZOFFSETTO:-0500
TZNAME:EST
DTSTART:20181104T060000
END:STANDARD
END:VTIMEZONE
BEGIN:VEVENT
DTSTART;TZID=America/Toronto:20170429T110000
DTEND;TZID=America/Toronto:20170429T170000
DTSTAMP:20260423T195153
CREATED:20170412T201932Z
LAST-MODIFIED:20170412T201932Z
UID:90598-1493463600-1493485200@victorycigars.ca
SUMMARY:Belle Artes Event With Sal
DESCRIPTION:Join Sal from Premier Tobacco Imports here at Victory Cigars to celebrate the Belle Artes cigar by AJ Fernandez. \nEnjoy a 20% discount! \n 
URL:https://victorycigars.ca/event/belle-artes-event-sal/
CATEGORIES:Cigar Event,In Store Event
ATTACH;FMTTYPE=:
END:VEVENT
BEGIN:VEVENT
DTSTART;TZID=America/Toronto:20170424T100000
DTEND;TZID=America/Toronto:20170429T180000
DTSTAMP:20260423T195153
CREATED:20170425T200446Z
LAST-MODIFIED:20250428T172500Z
UID:90602-1493028000-1493488800@victorycigars.ca
SUMMARY:Bella Artes All Week
DESCRIPTION:Save 20% All Week Long! Bella Artes by AJ Fernandez \n 
URL:https://victorycigars.ca/event/bella-artes-week/
CATEGORIES:Cigar Event,Cigar Of The Week
ATTACH;FMTTYPE=:
END:VEVENT
BEGIN:VEVENT
DTSTART;TZID=America/Toronto:20170408T110000
DTEND;TZID=America/Toronto:20170408T170000
DTSTAMP:20260423T195153
CREATED:20170404T170607Z
LAST-MODIFIED:20250428T171900Z
UID:90584-1491649200-1491670800@victorycigars.ca
SUMMARY:Espinosa #5 Event
DESCRIPTION:Join us Saturday April 8th at 11am to 5pm for another great cigar event! \nThis time we feature the Espinosa #5\, a Nicaraguan Corona Gorda. Cigar Aficionado rates this one a 91. \nLots of great deals + pricing on these cigars Saturday.  Stop by and see why we think this cigar is well worth your time.
URL:https://victorycigars.ca/event/espinosa-5-event/
CATEGORIES:Cigar Event,Special Event
ATTACH;FMTTYPE=:
END:VEVENT
END:VCALENDAR