BEGIN:VCALENDAR
VERSION:2.0
PRODID:-//Victory Cigars - ECPv6.15.20//NONSGML v1.0//EN
CALSCALE:GREGORIAN
METHOD:PUBLISH
X-ORIGINAL-URL:https://victorycigars.ca
X-WR-CALDESC:Events for Victory Cigars
REFRESH-INTERVAL;VALUE=DURATION:PT1H
X-Robots-Tag:noindex
X-PUBLISHED-TTL:PT1H
BEGIN:VTIMEZONE
TZID:America/Toronto
BEGIN:DAYLIGHT
TZOFFSETFROM:-0500
TZOFFSETTO:-0400
TZNAME:EDT
DTSTART:20160313T070000
END:DAYLIGHT
BEGIN:STANDARD
TZOFFSETFROM:-0400
TZOFFSETTO:-0500
TZNAME:EST
DTSTART:20161106T060000
END:STANDARD
BEGIN:DAYLIGHT
TZOFFSETFROM:-0500
TZOFFSETTO:-0400
TZNAME:EDT
DTSTART:20170312T070000
END:DAYLIGHT
BEGIN:STANDARD
TZOFFSETFROM:-0400
TZOFFSETTO:-0500
TZNAME:EST
DTSTART:20171105T060000
END:STANDARD
BEGIN:DAYLIGHT
TZOFFSETFROM:-0500
TZOFFSETTO:-0400
TZNAME:EDT
DTSTART:20180311T070000
END:DAYLIGHT
BEGIN:STANDARD
TZOFFSETFROM:-0400
TZOFFSETTO:-0500
TZNAME:EST
DTSTART:20181104T060000
END:STANDARD
BEGIN:DAYLIGHT
TZOFFSETFROM:-0500
TZOFFSETTO:-0400
TZNAME:EDT
DTSTART:20190310T070000
END:DAYLIGHT
BEGIN:STANDARD
TZOFFSETFROM:-0400
TZOFFSETTO:-0500
TZNAME:EST
DTSTART:20191103T060000
END:STANDARD
BEGIN:DAYLIGHT
TZOFFSETFROM:-0500
TZOFFSETTO:-0400
TZNAME:EDT
DTSTART:20200308T070000
END:DAYLIGHT
BEGIN:STANDARD
TZOFFSETFROM:-0400
TZOFFSETTO:-0500
TZNAME:EST
DTSTART:20201101T060000
END:STANDARD
BEGIN:DAYLIGHT
TZOFFSETFROM:-0500
TZOFFSETTO:-0400
TZNAME:EDT
DTSTART:20210314T070000
END:DAYLIGHT
BEGIN:STANDARD
TZOFFSETFROM:-0400
TZOFFSETTO:-0500
TZNAME:EST
DTSTART:20211107T060000
END:STANDARD
BEGIN:DAYLIGHT
TZOFFSETFROM:-0500
TZOFFSETTO:-0400
TZNAME:EDT
DTSTART:20220313T070000
END:DAYLIGHT
BEGIN:STANDARD
TZOFFSETFROM:-0400
TZOFFSETTO:-0500
TZNAME:EST
DTSTART:20221106T060000
END:STANDARD
BEGIN:DAYLIGHT
TZOFFSETFROM:-0500
TZOFFSETTO:-0400
TZNAME:EDT
DTSTART:20230312T070000
END:DAYLIGHT
BEGIN:STANDARD
TZOFFSETFROM:-0400
TZOFFSETTO:-0500
TZNAME:EST
DTSTART:20231105T060000
END:STANDARD
BEGIN:DAYLIGHT
TZOFFSETFROM:-0500
TZOFFSETTO:-0400
TZNAME:EDT
DTSTART:20240310T070000
END:DAYLIGHT
BEGIN:STANDARD
TZOFFSETFROM:-0400
TZOFFSETTO:-0500
TZNAME:EST
DTSTART:20241103T060000
END:STANDARD
BEGIN:DAYLIGHT
TZOFFSETFROM:-0500
TZOFFSETTO:-0400
TZNAME:EDT
DTSTART:20250309T070000
END:DAYLIGHT
BEGIN:STANDARD
TZOFFSETFROM:-0400
TZOFFSETTO:-0500
TZNAME:EST
DTSTART:20251102T060000
END:STANDARD
BEGIN:DAYLIGHT
TZOFFSETFROM:-0500
TZOFFSETTO:-0400
TZNAME:EDT
DTSTART:20260308T070000
END:DAYLIGHT
BEGIN:STANDARD
TZOFFSETFROM:-0400
TZOFFSETTO:-0500
TZNAME:EST
DTSTART:20261101T060000
END:STANDARD
END:VTIMEZONE
BEGIN:VEVENT
DTSTART;TZID=America/Toronto:20250428T000000
DTEND;TZID=America/Toronto:20250428T000000
DTSTAMP:20260423T231225
CREATED:20180630T235850Z
LAST-MODIFIED:20250428T170500Z
UID:90688-1745798400-1745798400@victorycigars.ca
SUMMARY:Closed Today For Canada Day
DESCRIPTION:Closed Sunday July 1\, 2018\, Happy Canada Day! \nOpen Monday July 2\, 2018 10-7pm
URL:https://victorycigars.ca/event/closed-today-for-canada-day/
LOCATION:Victory Cigars Inc\, 215 KING STREET EAST\, OSHAWA\, ONTARIO\, L1H1C5\, Canada
CATEGORIES:Holiday Hours
ORGANIZER;CN="Victory Cigars":MAILTO:gillian@victorycigars.ca
END:VEVENT
BEGIN:VEVENT
DTSTART;VALUE=DATE:20240329
DTEND;VALUE=DATE:20240330
DTSTAMP:20260423T231225
CREATED:20240321T155521Z
LAST-MODIFIED:20240321T155759Z
UID:141266-1711670400-1711756799@victorycigars.ca
SUMMARY:CLOSED GOOD FRIDAY AND EASTER SUNDAY
DESCRIPTION:Hey aficionados! We hope everyone enjoys the Easter holiday weekend.  Please note we will be closed the following days: \nMarch 29th\, 2024 GOOD FRIDAY \nMarch 31st\, 2024 EASTER SUNDAY
URL:https://victorycigars.ca/event/closed-good-friday-and-easter-sunday/
LOCATION:Victory Cigars Inc\, 215 KING STREET EAST\, OSHAWA\, ONTARIO\, L1H1C5\, Canada
CATEGORIES:Holiday Hours
ATTACH;FMTTYPE=image/jpeg:https://victorycigars.ca/wp-content/uploads/2024/03/Easter-Sunday-CLOSED.jpg
END:VEVENT
BEGIN:VEVENT
DTSTART;VALUE=DATE:20200319
DTEND;VALUE=DATE:20200402
DTSTAMP:20260423T231225
CREATED:20200318T210917Z
LAST-MODIFIED:20250429T161638Z
UID:74373-1584576000-1585785599@victorycigars.ca
SUMMARY:COVID19 MODIFIED BUSINESS HOURS
DESCRIPTION:As a means to keeping our staff as stress free as possible\, hours for the store will be modified from March 19- April 1 at which time we will reassess the situation and make an updated decision. \nThanks everyone\, for your understanding. \nCLOSED: SUNDAY \nOPEN: MONDAY to SATURDAY 11-6PM
URL:https://victorycigars.ca/event/covid19-modified-business-hours/
LOCATION:Victory Cigars Inc\, 215 KING STREET EAST\, OSHAWA\, ONTARIO\, L1H1C5\, Canada
CATEGORIES:Holiday Hours
ORGANIZER;CN="Victory Cigars":MAILTO:gillian@victorycigars.ca
END:VEVENT
BEGIN:VEVENT
DTSTART;VALUE=DATE:20200101
DTEND;VALUE=DATE:20200102
DTSTAMP:20260423T231225
CREATED:20190902T163144Z
LAST-MODIFIED:20250429T161747Z
UID:74023-1577836800-1577923199@victorycigars.ca
SUMMARY:Happy New Year! Closed Today
DESCRIPTION:Happy New Year! Enjoy the start of a brand new year with a nice hot coffee and a sweet cigar.  Regular hours resume tomorrow.
URL:https://victorycigars.ca/event/happy-new-year-closed-today/
LOCATION:Victory Cigars Inc\, 215 KING STREET EAST\, OSHAWA\, ONTARIO\, L1H1C5\, Canada
CATEGORIES:Holiday Hours
ORGANIZER;CN="Victory Cigars":MAILTO:gillian@victorycigars.ca
END:VEVENT
BEGIN:VEVENT
DTSTART;TZID=America/Toronto:20191231T100000
DTEND;TZID=America/Toronto:20191231T150000
DTSTAMP:20260423T231225
CREATED:20190902T163341Z
LAST-MODIFIED:20250429T161816Z
UID:74025-1577786400-1577804400@victorycigars.ca
SUMMARY:Closed Early Today For New Years Eve
DESCRIPTION:Closed early today at 3pm for New Years Eve.  Have a safe\, fun time tonight!
URL:https://victorycigars.ca/event/closed-early-today-for-new-years-eve/
LOCATION:ONTARIO
CATEGORIES:Holiday Hours
ORGANIZER;CN="Victory Cigars":MAILTO:gillian@victorycigars.ca
END:VEVENT
BEGIN:VEVENT
DTSTART;VALUE=DATE:20191225
DTEND;VALUE=DATE:20191227
DTSTAMP:20260423T231225
CREATED:20190902T162530Z
LAST-MODIFIED:20250429T161856Z
UID:74020-1577232000-1577404799@victorycigars.ca
SUMMARY:Closed Christmas Day And Boxing Day - Merry Christmas From Victory Cigars!
DESCRIPTION:The store will close early on Christmas Eve\, watch for the more detailed holiday hours to be posted in the newsletter. \nClosed Christmas Day\, closed Boxing Day.  Have a Merry Christmas!
URL:https://victorycigars.ca/event/closed-christmas-day-and-boxing-day-merry-christmas-from-victory-cigars/
LOCATION:Victory Cigars Inc\, 215 KING STREET EAST\, OSHAWA\, ONTARIO\, L1H1C5\, Canada
CATEGORIES:Holiday Hours,Special Event
ATTACH;FMTTYPE=:
ORGANIZER;CN="Victory Cigars":MAILTO:gillian@victorycigars.ca
END:VEVENT
BEGIN:VEVENT
DTSTART;VALUE=DATE:20191014
DTEND;VALUE=DATE:20191015
DTSTAMP:20260423T231225
CREATED:20190902T161215Z
LAST-MODIFIED:20250429T161941Z
UID:74015-1571011200-1571097599@victorycigars.ca
SUMMARY:Closed For Thanksgiving
DESCRIPTION:Have a wonderful Thanksgiving today.  We hope you enjoy a cigar and a big slice of pumpkin pie!
URL:https://victorycigars.ca/event/closed-for-thanksgiving/
LOCATION:ONTARIO
CATEGORIES:Holiday Hours,Special Event
ATTACH;FMTTYPE=:
ORGANIZER;CN="Victory Cigars":MAILTO:gillian@victorycigars.ca
END:VEVENT
BEGIN:VEVENT
DTSTART;TZID=America/Toronto:20190902T080000
DTEND;TZID=America/Toronto:20190902T170000
DTSTAMP:20260423T231225
CREATED:20190902T160800Z
LAST-MODIFIED:20250429T162656Z
UID:74011-1567411200-1567443600@victorycigars.ca
SUMMARY:Closed For Labour Day
DESCRIPTION:Hope you enjoyed this amazing summer! Closed today to enjoy some moments with our family and a cigar.
URL:https://victorycigars.ca/event/closed-for-labour-day/
LOCATION:Victory Cigars Inc\, 215 KING STREET EAST\, OSHAWA\, ONTARIO\, L1H1C5\, Canada
CATEGORIES:Holiday Hours
ATTACH;FMTTYPE=:
ORGANIZER;CN="Victory Cigars":MAILTO:gillian@victorycigars.ca
END:VEVENT
BEGIN:VEVENT
DTSTART;VALUE=DATE:20190701
DTEND;VALUE=DATE:20190702
DTSTAMP:20260423T231225
CREATED:20190630T234241Z
LAST-MODIFIED:20250429T163523Z
UID:73907-1561939200-1562025599@victorycigars.ca
SUMMARY:Closed Canada Day
DESCRIPTION:Closed today! Enjoy! See you tomorrow.
URL:https://victorycigars.ca/event/closed-canada-day-2/
LOCATION:Victory Cigars Inc\, 215 KING STREET EAST\, OSHAWA\, ONTARIO\, L1H1C5\, Canada
CATEGORIES:Holiday Hours
ATTACH;FMTTYPE=:
ORGANIZER;CN="Victory Cigars":MAILTO:gillian@victorycigars.ca
END:VEVENT
BEGIN:VEVENT
DTSTART;VALUE=DATE:20190520
DTEND;VALUE=DATE:20190521
DTSTAMP:20260423T231225
CREATED:20190417T182831Z
LAST-MODIFIED:20250429T164608Z
UID:73792-1558310400-1558396799@victorycigars.ca
SUMMARY:Closed Victoria Day Monday
DESCRIPTION:CLOSED TODAY FOR VICTORIA DAY
URL:https://victorycigars.ca/event/closed-victoria-day-monday/
LOCATION:Victory Cigars Inc\, 215 KING STREET EAST\, OSHAWA\, ONTARIO\, L1H1C5\, Canada
CATEGORIES:Holiday Hours
ATTACH;FMTTYPE=:
ORGANIZER;CN="Victory Cigars":MAILTO:gillian@victorycigars.ca
END:VEVENT
BEGIN:VEVENT
DTSTART;VALUE=DATE:20190421
DTEND;VALUE=DATE:20190422
DTSTAMP:20260423T231225
CREATED:20190416T030919Z
LAST-MODIFIED:20250429T165113Z
UID:73773-1555804800-1555891199@victorycigars.ca
SUMMARY:CLOSED EASTER SUNDAY
DESCRIPTION:
URL:https://victorycigars.ca/event/closed-easter-sunday/
LOCATION:Victory Cigars Inc\, 215 KING STREET EAST\, OSHAWA\, ONTARIO\, L1H1C5\, Canada
CATEGORIES:Holiday Hours
ATTACH;FMTTYPE=:
ORGANIZER;CN="Victory Cigars":MAILTO:gillian@victorycigars.ca
END:VEVENT
BEGIN:VEVENT
DTSTART;VALUE=DATE:20190419
DTEND;VALUE=DATE:20190420
DTSTAMP:20260423T231225
CREATED:20190416T030746Z
LAST-MODIFIED:20250429T165304Z
UID:73770-1555632000-1555718399@victorycigars.ca
SUMMARY:CLOSED  GOOD FRIDAY
DESCRIPTION:
URL:https://victorycigars.ca/event/closed-good-friday/
LOCATION:Victory Cigars Inc\, 215 KING STREET EAST\, OSHAWA\, ONTARIO\, L1H1C5\, Canada
CATEGORIES:Holiday Hours
ATTACH;FMTTYPE=:
ORGANIZER;CN="Victory Cigars":MAILTO:gillian@victorycigars.ca
END:VEVENT
BEGIN:VEVENT
DTSTART;VALUE=DATE:20190101
DTEND;VALUE=DATE:20190102
DTSTAMP:20260423T231225
CREATED:20181209T172652Z
LAST-MODIFIED:20250429T172311Z
UID:73586-1546300800-1546387199@victorycigars.ca
SUMMARY:Happy New Year!
DESCRIPTION:
URL:https://victorycigars.ca/event/merry-christmas/
LOCATION:Victory Cigars Inc\, 215 KING STREET EAST\, OSHAWA\, ONTARIO\, L1H1C5\, Canada
CATEGORIES:Holiday Hours
ORGANIZER;CN="Victory Cigars":MAILTO:gillian@victorycigars.ca
END:VEVENT
BEGIN:VEVENT
DTSTART;VALUE=DATE:20181225
DTEND;VALUE=DATE:20181227
DTSTAMP:20260423T231225
CREATED:20181209T173225Z
LAST-MODIFIED:20250429T172444Z
UID:73590-1545696000-1545868799@victorycigars.ca
SUMMARY:Have A Merry Christmas!
DESCRIPTION:Enjoy the day.  Wishing you all the best…Closed today and Boxing Day.  Open for regular business hours on the 27th. \nMerry Christmas from all of us at Victory Cigars!
URL:https://victorycigars.ca/event/have-a-merry-christmas/
LOCATION:Victory Cigars Inc\, 215 KING STREET EAST\, OSHAWA\, ONTARIO\, L1H1C5\, Canada
CATEGORIES:Holiday Hours
ATTACH;FMTTYPE=:
ORGANIZER;CN="Victory Cigars":MAILTO:gillian@victorycigars.ca
END:VEVENT
BEGIN:VEVENT
DTSTART;VALUE=DATE:20181008
DTEND;VALUE=DATE:20181009
DTSTAMP:20260423T231225
CREATED:20181007T184032Z
LAST-MODIFIED:20250428T183245Z
UID:73454-1538956800-1539043199@victorycigars.ca
SUMMARY:Happy Thanksgiving! Closed Today
DESCRIPTION:We are enjoying Thanksgiving dinner with our families\, and hope you are too.  We open again tomorrow at 10am.  Thanks!
URL:https://victorycigars.ca/event/happy-thanksgiving-closed-today/
LOCATION:Victory Cigars Inc\, 215 KING STREET EAST\, OSHAWA\, ONTARIO\, L1H1C5\, Canada
CATEGORIES:Holiday Hours
ATTACH;FMTTYPE=:
ORGANIZER;CN="Victory Cigars":MAILTO:gillian@victorycigars.ca
END:VEVENT
BEGIN:VEVENT
DTSTART;VALUE=DATE:20180806
DTEND;VALUE=DATE:20180807
DTSTAMP:20260423T231225
CREATED:20180805T163915Z
LAST-MODIFIED:20250428T181903Z
UID:73366-1533513600-1533599999@victorycigars.ca
SUMMARY:Closed for the holiday today
DESCRIPTION:CLOSED TODAY! ENJOY THE LONG WEEKEND \nOPEN TOMORROW AT 10AM
URL:https://victorycigars.ca/event/closed-for-the-holiday-today/
LOCATION:Victory Cigars Inc\, 215 KING STREET EAST\, OSHAWA\, ONTARIO\, L1H1C5\, Canada
CATEGORIES:Holiday Hours
ATTACH;FMTTYPE=:
ORGANIZER;CN="Victory Cigars":MAILTO:gillian@victorycigars.ca
END:VEVENT
BEGIN:VEVENT
DTSTART;VALUE=DATE:20180701
DTEND;VALUE=DATE:20180702
DTSTAMP:20260423T231225
CREATED:20180701T010935Z
LAST-MODIFIED:20250428T181433Z
UID:90690-1530403200-1530489599@victorycigars.ca
SUMMARY:Closed For Canada Day
DESCRIPTION:Closed Sunday July 1\, 2018 \nOpen Monday July 2\, 2018 10-7pm
URL:https://victorycigars.ca/event/closed-for-canada-day/
LOCATION:Victory Cigars Inc\, 215 KING STREET EAST\, OSHAWA\, ONTARIO\, L1H1C5\, Canada
CATEGORIES:Holiday Hours
ORGANIZER;CN="Victory Cigars":MAILTO:gillian@victorycigars.ca
END:VEVENT
BEGIN:VEVENT
DTSTART;VALUE=DATE:20180401
DTEND;VALUE=DATE:20180402
DTSTAMP:20260423T231225
CREATED:20180327T210232Z
LAST-MODIFIED:20250428T180432Z
UID:90670-1522540800-1522627199@victorycigars.ca
SUMMARY:CLOSED TODAY FOR EASTER SUNDAY
DESCRIPTION:
URL:https://victorycigars.ca/event/closed-today-for-easter-sunday/
LOCATION:Victory Cigars Inc\, 215 KING STREET EAST\, OSHAWA\, ONTARIO\, L1H1C5\, Canada
CATEGORIES:Holiday Hours
ATTACH;FMTTYPE=:
ORGANIZER;CN="Victory Cigars":MAILTO:gillian@victorycigars.ca
END:VEVENT
BEGIN:VEVENT
DTSTART;VALUE=DATE:20180330
DTEND;VALUE=DATE:20180331
DTSTAMP:20260423T231225
CREATED:20180327T170447Z
LAST-MODIFIED:20250428T180355Z
UID:90665-1522368000-1522454399@victorycigars.ca
SUMMARY:Closed for Good Friday
DESCRIPTION:Enjoy Good Friday.  Open tomorrow during regular business hours.
URL:https://victorycigars.ca/event/closed-for-good-friday/
LOCATION:Victory Cigars Inc\, 215 KING STREET EAST\, OSHAWA\, ONTARIO\, L1H1C5\, Canada
CATEGORIES:Holiday Hours
ATTACH;FMTTYPE=:
ORGANIZER;CN="Victory Cigars":MAILTO:gillian@victorycigars.ca
END:VEVENT
BEGIN:VEVENT
DTSTART;VALUE=DATE:20180219
DTEND;VALUE=DATE:20180220
DTSTAMP:20260423T231225
CREATED:20171230T145402Z
LAST-MODIFIED:20250428T180047Z
UID:90649-1518998400-1519084799@victorycigars.ca
SUMMARY:Closed For Family Day
DESCRIPTION:Enjoy this day off with your family\, or a cigar! Or both.  Make it a good one.
URL:https://victorycigars.ca/event/closed-family-day/
LOCATION:Victory Cigars Inc\, 215 KING STREET EAST\, OSHAWA\, ONTARIO\, L1H1C5\, Canada
CATEGORIES:Holiday Hours
ORGANIZER;CN="Victory Cigars":MAILTO:gillian@victorycigars.ca
END:VEVENT
BEGIN:VEVENT
DTSTART;VALUE=DATE:20180101
DTEND;VALUE=DATE:20180102
DTSTAMP:20260423T231225
CREATED:20171230T144412Z
LAST-MODIFIED:20250428T175446Z
UID:90647-1514764800-1514851199@victorycigars.ca
SUMMARY:Happy New Year!
DESCRIPTION:See you bright and early tomorrow at 10am! \nHope you all had a safe + fun time last night.
URL:https://victorycigars.ca/event/happy-new-year/
LOCATION:Victory Cigars Inc\, 215 KING STREET EAST\, OSHAWA\, ONTARIO\, L1H1C5\, Canada
CATEGORIES:Holiday Hours
ORGANIZER;CN="Victory Cigars":MAILTO:gillian@victorycigars.ca
END:VEVENT
BEGIN:VEVENT
DTSTART;TZID=America/Toronto:20171231T100000
DTEND;TZID=America/Toronto:20171231T150000
DTSTAMP:20260423T231225
CREATED:20171230T144753Z
LAST-MODIFIED:20250428T175424Z
UID:90648-1514714400-1514732400@victorycigars.ca
SUMMARY:Open New Years Eve 10-3pm
DESCRIPTION:Yes we are open today from 10-3pm. \nHave a wonderful New Years Eve!
URL:https://victorycigars.ca/event/open-new-years-eve-10-3pm/
LOCATION:Victory Cigars Inc\, 215 KING STREET EAST\, OSHAWA\, ONTARIO\, L1H1C5\, Canada
CATEGORIES:Holiday Hours
ORGANIZER;CN="Victory Cigars":MAILTO:gillian@victorycigars.ca
END:VEVENT
BEGIN:VEVENT
DTSTART;VALUE=DATE:20171225
DTEND;VALUE=DATE:20171227
DTSTAMP:20260423T231225
CREATED:20170406T001352Z
LAST-MODIFIED:20250428T175403Z
UID:90595-1514160000-1514332799@victorycigars.ca
SUMMARY:Christmas Day And Boxing Day We Are Closed
DESCRIPTION:Merry Christmas! Enjoy this day with your loved ones.  Closed Boxing Day as well. \nWe will be open on the 27th\, regular hours. \n 
URL:https://victorycigars.ca/event/christmas-day-closed/
LOCATION:ONTARIO
CATEGORIES:Holiday Hours
ATTACH;FMTTYPE=:
END:VEVENT
BEGIN:VEVENT
DTSTART;VALUE=DATE:20170904
DTEND;VALUE=DATE:20170905
DTSTAMP:20260423T231225
CREATED:20170404T183401Z
LAST-MODIFIED:20250428T173755Z
UID:90591-1504483200-1504569599@victorycigars.ca
SUMMARY:Labour Day We Are Closed
DESCRIPTION:In Canada\, Labour Day is celebrated on the first Monday of September and considered the unofficial end of summer\, with summer vacations ending and students returning to school around then. We will be closed all day.  We hope you end your summer on a happy note\, with a nice cigar and your closest people around you!
URL:https://victorycigars.ca/event/labour-day-closed/
LOCATION:ONTARIO
CATEGORIES:Holiday Hours
ATTACH;FMTTYPE=image/png:https://victorycigars.ca/wp-content/uploads/2020/09/AlecBradleyMedalistRobustoSingle.png
END:VEVENT
BEGIN:VEVENT
DTSTART;TZID=America/Toronto:20170826T100000
DTEND;TZID=America/Toronto:20170826T150000
DTSTAMP:20260423T231225
CREATED:20170821T012617Z
LAST-MODIFIED:20250428T173712Z
UID:90618-1503741600-1503759600@victorycigars.ca
SUMMARY:Closing Early Today
DESCRIPTION:Today we close at 3pm.\nSorry for the inconvenience!
URL:https://victorycigars.ca/event/closing-early-today/
LOCATION:ONTARIO
CATEGORIES:Holiday Hours
END:VEVENT
BEGIN:VEVENT
DTSTART;VALUE=DATE:20170807
DTEND;VALUE=DATE:20170808
DTSTAMP:20260423T231225
CREATED:20170404T184548Z
LAST-MODIFIED:20250428T173528Z
UID:90592-1502064000-1502150399@victorycigars.ca
SUMMARY:August Civic Holiday
DESCRIPTION:Did You Know? At Victory Cigars\, we celebrate McLaughlin Day by taking the day off.  Thanks Sam! \n“Civic Holiday” is now known by one of a number of local appellations such as: \n\nColonel By Day in Ottawa\,\nGeorge Hamilton Day in Hamilton\,\nJoseph Brant Day in Burlington\,\nFounders’ Day in Brantford\,\nMcLaughlin Day in Oshawa\,\nAlexander Mackenzie Day in Sarnia\,\nJames Cockburn Day in Cobourg\,\nPeter Robinson Day in Peterborough\,\nand John Galt Day in Guelph\, as well as numerous other names in smaller municipalities\n\nLittle known fact; The building that houses Victory Cigars and The SPA on King was built in 1923. The Cutler family dwelled here and the man of the house worked for Samuel McLaughlin and the lady of the house was Oshawa’s librarian. \nWishing you a happy and fun long weekend with lots of roasted marshmallows and toasted cigars!
URL:https://victorycigars.ca/event/august-civic-holiday/
LOCATION:ONTARIO
CATEGORIES:Holiday Hours
ATTACH;FMTTYPE=image/png:https://victorycigars.ca/wp-content/uploads/2020/09/AlecBradleyMedalistGordoBox.png
END:VEVENT
BEGIN:VEVENT
DTSTART;VALUE=DATE:20170701
DTEND;VALUE=DATE:20170702
DTSTAMP:20260423T231225
CREATED:20170404T205311Z
LAST-MODIFIED:20250428T173351Z
UID:8872-1498867200-1498953599@victorycigars.ca
SUMMARY:Canada Day We Are Closed
DESCRIPTION:
URL:https://victorycigars.ca/event/canada-day-closed/
LOCATION:ONTARIO
CATEGORIES:Holiday Hours
END:VEVENT
BEGIN:VEVENT
DTSTART;VALUE=DATE:20170522
DTEND;VALUE=DATE:20170523
DTSTAMP:20260423T231225
CREATED:20170404T182429Z
LAST-MODIFIED:20250428T172934Z
UID:90590-1495411200-1495497599@victorycigars.ca
SUMMARY:Victoria Day We Are Closed
DESCRIPTION:Enjoy this first of four long weekends in Ontario this summer.  We will be having some fun too! \nThis marks the official beginning of summer for Canadians\, eh? \nBe safe and have a great weekend\, open Tuesday at 10am.
URL:https://victorycigars.ca/event/victoria-day-closed/
LOCATION:ONTARIO
CATEGORIES:Holiday Hours
END:VEVENT
BEGIN:VEVENT
DTSTART;VALUE=DATE:20170416
DTEND;VALUE=DATE:20170417
DTSTAMP:20260423T231225
CREATED:20170404T172235Z
LAST-MODIFIED:20250428T172347Z
UID:90587-1492300800-1492387199@victorycigars.ca
SUMMARY:Easter Sunday We Are Closed
DESCRIPTION:Closed today to celebrate Easter Sunday with our families. \nOpen tomorrow at 10am to 7pm\, regular time. \nHave a happy holiday!
URL:https://victorycigars.ca/event/easter-sunday-closed/
LOCATION:ONTARIO
CATEGORIES:Holiday Hours
ATTACH;FMTTYPE=:
END:VEVENT
BEGIN:VEVENT
DTSTART;VALUE=DATE:20170414
DTEND;VALUE=DATE:20170415
DTSTAMP:20260423T231225
CREATED:20170404T171508Z
LAST-MODIFIED:20250428T172318Z
UID:90586-1492128000-1492214399@victorycigars.ca
SUMMARY:Good Friday We Are Closed
DESCRIPTION:Enjoy this holiday with your family and friends. \nWe will be open tomorrow\, Saturday April 15 at 10am until 6pm. \nClosed again for Easter Sunday all day. \nOpen Monday April 17 regular store hours\, 10-7pm \n  \nThank you and have a happy holiday!
URL:https://victorycigars.ca/event/good-friday-closed/
LOCATION:ONTARIO
CATEGORIES:Holiday Hours
ATTACH;FMTTYPE=image/png:https://victorycigars.ca/wp-content/uploads/2020/09/AlecBradleyMedalistToroBox.png
END:VEVENT
END:VCALENDAR