BEGIN:VCALENDAR
VERSION:2.0
PRODID:-//Victory Cigars - ECPv6.15.20//NONSGML v1.0//EN
CALSCALE:GREGORIAN
METHOD:PUBLISH
X-ORIGINAL-URL:https://victorycigars.ca
X-WR-CALDESC:Events for Victory Cigars
REFRESH-INTERVAL;VALUE=DURATION:PT1H
X-Robots-Tag:noindex
X-PUBLISHED-TTL:PT1H
BEGIN:VTIMEZONE
TZID:America/Toronto
BEGIN:DAYLIGHT
TZOFFSETFROM:-0500
TZOFFSETTO:-0400
TZNAME:EDT
DTSTART:20160313T070000
END:DAYLIGHT
BEGIN:STANDARD
TZOFFSETFROM:-0400
TZOFFSETTO:-0500
TZNAME:EST
DTSTART:20161106T060000
END:STANDARD
BEGIN:DAYLIGHT
TZOFFSETFROM:-0500
TZOFFSETTO:-0400
TZNAME:EDT
DTSTART:20170312T070000
END:DAYLIGHT
BEGIN:STANDARD
TZOFFSETFROM:-0400
TZOFFSETTO:-0500
TZNAME:EST
DTSTART:20171105T060000
END:STANDARD
BEGIN:DAYLIGHT
TZOFFSETFROM:-0500
TZOFFSETTO:-0400
TZNAME:EDT
DTSTART:20180311T070000
END:DAYLIGHT
BEGIN:STANDARD
TZOFFSETFROM:-0400
TZOFFSETTO:-0500
TZNAME:EST
DTSTART:20181104T060000
END:STANDARD
BEGIN:DAYLIGHT
TZOFFSETFROM:-0500
TZOFFSETTO:-0400
TZNAME:EDT
DTSTART:20190310T070000
END:DAYLIGHT
BEGIN:STANDARD
TZOFFSETFROM:-0400
TZOFFSETTO:-0500
TZNAME:EST
DTSTART:20191103T060000
END:STANDARD
BEGIN:DAYLIGHT
TZOFFSETFROM:-0500
TZOFFSETTO:-0400
TZNAME:EDT
DTSTART:20200308T070000
END:DAYLIGHT
BEGIN:STANDARD
TZOFFSETFROM:-0400
TZOFFSETTO:-0500
TZNAME:EST
DTSTART:20201101T060000
END:STANDARD
END:VTIMEZONE
BEGIN:VEVENT
DTSTART;VALUE=DATE:20190220
DTEND;VALUE=DATE:20190221
DTSTAMP:20260424T125343
CREATED:20190217T005235Z
LAST-MODIFIED:20190217T005235Z
UID:73672-1550620800-1550707199@victorycigars.ca
SUMMARY:IPSD - International Pipe Smoking Day
DESCRIPTION:
URL:https://victorycigars.ca/event/ipsd-international-pipe-smoking-day/
CATEGORIES:In Store SALE,IPSD Event
ATTACH;FMTTYPE=:
END:VEVENT
BEGIN:VEVENT
DTSTART;VALUE=DATE:20190220
DTEND;VALUE=DATE:20190221
DTSTAMP:20260424T125343
CREATED:20190206T220040Z
LAST-MODIFIED:20190206T220040Z
UID:73649-1550620800-1550707199@victorycigars.ca
SUMMARY:IPSD and the annual pipe carving competition for 2019
DESCRIPTION:Watch this space for all the info relevant to IPSD and our annual pipe carving competition! Briar blanks available in the shop for those wishing to enter the contest.  \nFull rules and details to be posted shortly!
URL:https://victorycigars.ca/event/ipsd-and-the-annual-pipe-carving-competition-for-2019/
CATEGORIES:In Store Event,IPSD Event
END:VEVENT
BEGIN:VEVENT
DTSTART;TZID=America/Toronto:20170220T100000
DTEND;TZID=America/Toronto:20170402T170000
DTSTAMP:20260424T125343
CREATED:20170216T025959Z
LAST-MODIFIED:20250428T171626Z
UID:90573-1487584800-1491152400@victorycigars.ca
SUMMARY:International Pipe Smoking Day Pipe Carving Competition
DESCRIPTION:The IPSD Pipe Carving competition takes place this year from February 20\, through until April 2.  If you wish to participate\, pop by the shop to pick up a fresh briar block for carving and get the rules and regulations too. The winner will get the grand prize worth $450 and you will also be the recipient of a champion’s trophy with your name on it!  Wishing you all the best of luck with this fun\, annual competition! Full details in shop.
URL:https://victorycigars.ca/event/international-pipe-smoking-day-pipe-carving-competition/
CATEGORIES:IPSD Event
ATTACH;FMTTYPE=:
END:VEVENT
END:VCALENDAR