BEGIN:VCALENDAR
VERSION:2.0
PRODID:-//Victory Cigars - ECPv6.15.20//NONSGML v1.0//EN
CALSCALE:GREGORIAN
METHOD:PUBLISH
X-ORIGINAL-URL:https://victorycigars.ca
X-WR-CALDESC:Events for Victory Cigars
REFRESH-INTERVAL;VALUE=DURATION:PT1H
X-Robots-Tag:noindex
X-PUBLISHED-TTL:PT1H
BEGIN:VTIMEZONE
TZID:America/Toronto
BEGIN:DAYLIGHT
TZOFFSETFROM:-0500
TZOFFSETTO:-0400
TZNAME:EDT
DTSTART:20160313T070000
END:DAYLIGHT
BEGIN:STANDARD
TZOFFSETFROM:-0400
TZOFFSETTO:-0500
TZNAME:EST
DTSTART:20161106T060000
END:STANDARD
BEGIN:DAYLIGHT
TZOFFSETFROM:-0500
TZOFFSETTO:-0400
TZNAME:EDT
DTSTART:20170312T070000
END:DAYLIGHT
BEGIN:STANDARD
TZOFFSETFROM:-0400
TZOFFSETTO:-0500
TZNAME:EST
DTSTART:20171105T060000
END:STANDARD
BEGIN:DAYLIGHT
TZOFFSETFROM:-0500
TZOFFSETTO:-0400
TZNAME:EDT
DTSTART:20180311T070000
END:DAYLIGHT
BEGIN:STANDARD
TZOFFSETFROM:-0400
TZOFFSETTO:-0500
TZNAME:EST
DTSTART:20181104T060000
END:STANDARD
END:VTIMEZONE
BEGIN:VEVENT
DTSTART;VALUE=DATE:20171002
DTEND;VALUE=DATE:20171016
DTSTAMP:20260423T114257
CREATED:20171004T232349Z
LAST-MODIFIED:20250428T173911Z
UID:90620-1506902400-1508111999@victorycigars.ca
SUMMARY:Xikar Sale -XO Cutters 20% Off
DESCRIPTION:Save 20% while supplies last on all in-stock XO Cutters by Xikar! 
URL:https://victorycigars.ca/event/xikar-sale-xo-cutters-20-off/
LOCATION:Victory Cigars Inc\, 215 KING STREET EAST\, OSHAWA\, ONTARIO\, L1H1C5\, Canada
CATEGORIES:In Store SALE,Online SALE
ORGANIZER;CN="Victory Cigars":MAILTO:gillian@victorycigars.ca
END:VEVENT
BEGIN:VEVENT
DTSTART;TZID=America/Toronto:20170410T100000
DTEND;TZID=America/Toronto:20170416T170000
DTSTAMP:20260423T114257
CREATED:20170408T020123Z
LAST-MODIFIED:20250428T172035Z
UID:90596-1491818400-1492362000@victorycigars.ca
SUMMARY:Xikar XO Cutter Sale
DESCRIPTION:Save 25% on all Xikar XO Cutters during this week at Victory Cigars. \nThe XO is a cutting machine\, inspired by timeless design principles. The dual stainless steel blades operate on a patent pending planetary gear system\, ensuring the blades open and close in perfect harmony\, providing a guided and clean cut every time. The distinct\, round aluminum body of the XO is built for relentless durability and exceptional performance. Engineered to simplify the standard double guillotine style cut. \nFeatures\n\nDouble Guillotine style cutter\nAluminum body\nStainless steel blades\nPlanetary geared cutting system with five internal gears\nSpring-loaded blade release button\n2.38″ diameter\n64 RG (cuts the cap of 70RG cigars)
URL:https://victorycigars.ca/event/xikar-xo-cutter-sale/
LOCATION:ONTARIO
CATEGORIES:In Store SALE,Online SALE
ATTACH;FMTTYPE=image/png:https://victorycigars.ca/wp-content/uploads/2020/06/Zippo1941ReplicaBlackCrackle-1.png
END:VEVENT
END:VCALENDAR