BEGIN:VCALENDAR
VERSION:2.0
PRODID:-//Victory Cigars - ECPv6.15.20//NONSGML v1.0//EN
CALSCALE:GREGORIAN
METHOD:PUBLISH
X-ORIGINAL-URL:https://victorycigars.ca
X-WR-CALDESC:Events for Victory Cigars
REFRESH-INTERVAL;VALUE=DURATION:PT1H
X-Robots-Tag:noindex
X-PUBLISHED-TTL:PT1H
BEGIN:VTIMEZONE
TZID:America/Toronto
BEGIN:DAYLIGHT
TZOFFSETFROM:-0500
TZOFFSETTO:-0400
TZNAME:EDT
DTSTART:20150308T070000
END:DAYLIGHT
BEGIN:STANDARD
TZOFFSETFROM:-0400
TZOFFSETTO:-0500
TZNAME:EST
DTSTART:20151101T060000
END:STANDARD
BEGIN:DAYLIGHT
TZOFFSETFROM:-0500
TZOFFSETTO:-0400
TZNAME:EDT
DTSTART:20160313T070000
END:DAYLIGHT
BEGIN:STANDARD
TZOFFSETFROM:-0400
TZOFFSETTO:-0500
TZNAME:EST
DTSTART:20161106T060000
END:STANDARD
BEGIN:DAYLIGHT
TZOFFSETFROM:-0500
TZOFFSETTO:-0400
TZNAME:EDT
DTSTART:20170312T070000
END:DAYLIGHT
BEGIN:STANDARD
TZOFFSETFROM:-0400
TZOFFSETTO:-0500
TZNAME:EST
DTSTART:20171105T060000
END:STANDARD
BEGIN:DAYLIGHT
TZOFFSETFROM:-0500
TZOFFSETTO:-0400
TZNAME:EDT
DTSTART:20180311T070000
END:DAYLIGHT
BEGIN:STANDARD
TZOFFSETFROM:-0400
TZOFFSETTO:-0500
TZNAME:EST
DTSTART:20181104T060000
END:STANDARD
BEGIN:DAYLIGHT
TZOFFSETFROM:-0500
TZOFFSETTO:-0400
TZNAME:EDT
DTSTART:20190310T070000
END:DAYLIGHT
BEGIN:STANDARD
TZOFFSETFROM:-0400
TZOFFSETTO:-0500
TZNAME:EST
DTSTART:20191103T060000
END:STANDARD
BEGIN:DAYLIGHT
TZOFFSETFROM:-0500
TZOFFSETTO:-0400
TZNAME:EDT
DTSTART:20200308T070000
END:DAYLIGHT
BEGIN:STANDARD
TZOFFSETFROM:-0400
TZOFFSETTO:-0500
TZNAME:EST
DTSTART:20201101T060000
END:STANDARD
BEGIN:DAYLIGHT
TZOFFSETFROM:-0500
TZOFFSETTO:-0400
TZNAME:EDT
DTSTART:20210314T070000
END:DAYLIGHT
BEGIN:STANDARD
TZOFFSETFROM:-0400
TZOFFSETTO:-0500
TZNAME:EST
DTSTART:20211107T060000
END:STANDARD
BEGIN:DAYLIGHT
TZOFFSETFROM:-0500
TZOFFSETTO:-0400
TZNAME:EDT
DTSTART:20220313T070000
END:DAYLIGHT
BEGIN:STANDARD
TZOFFSETFROM:-0400
TZOFFSETTO:-0500
TZNAME:EST
DTSTART:20221106T060000
END:STANDARD
BEGIN:DAYLIGHT
TZOFFSETFROM:-0500
TZOFFSETTO:-0400
TZNAME:EDT
DTSTART:20230312T070000
END:DAYLIGHT
BEGIN:STANDARD
TZOFFSETFROM:-0400
TZOFFSETTO:-0500
TZNAME:EST
DTSTART:20231105T060000
END:STANDARD
BEGIN:DAYLIGHT
TZOFFSETFROM:-0500
TZOFFSETTO:-0400
TZNAME:EDT
DTSTART:20240310T070000
END:DAYLIGHT
BEGIN:STANDARD
TZOFFSETFROM:-0400
TZOFFSETTO:-0500
TZNAME:EST
DTSTART:20241103T060000
END:STANDARD
BEGIN:DAYLIGHT
TZOFFSETFROM:-0500
TZOFFSETTO:-0400
TZNAME:EDT
DTSTART:20250309T070000
END:DAYLIGHT
BEGIN:STANDARD
TZOFFSETFROM:-0400
TZOFFSETTO:-0500
TZNAME:EST
DTSTART:20251102T060000
END:STANDARD
END:VTIMEZONE
BEGIN:VEVENT
DTSTART;TZID=America/Toronto:20240220T160000
DTEND;TZID=America/Toronto:20240220T200000
DTSTAMP:20260424T125408
CREATED:20240126T210039Z
LAST-MODIFIED:20240208T221242Z
UID:137278-1708444800-1708459200@victorycigars.ca
SUMMARY:International Pipe Smoking Day 2024
DESCRIPTION:Join us for a special event filled with camaraderie and celebration as we honour the tradition of pipe smoking on International Pipe Smoking Day! Established to foster a global appreciation for the art and pleasure of pipe tobacco\, this day has become a cherished occasion for enthusiasts worldwide. \nTom from Brigham Canada will be here with TOM’S TRUNK SHOW.  Tom will be offering the most unique pipes in various sizes and shapes\, all priced to SELL! \nThose who purchase will also receive add-on swag to take home. \nMark your calendars and prepare to indulge in the warmth of fellowship and the joy of premium pipes and tobaccos. This is an event pipe enthusiasts won’t want to miss!
URL:https://victorycigars.ca/event/international-pipe-smoking-day-2024/
LOCATION:Victory Cigars Inc\, 215 KING STREET EAST\, OSHAWA\, ONTARIO\, L1H1C5\, Canada
CATEGORIES:15 Year Anniversary,In Store Event,In Store SALE,Pipe Night,Pipe Tobacco Feature,Special Event
ATTACH;FMTTYPE=image/png:https://victorycigars.ca/wp-content/uploads/2024/01/Toms-Trunk-Show.png
ORGANIZER;CN="Victory Cigars":MAILTO:gillian@victorycigars.ca
END:VEVENT
BEGIN:VEVENT
DTSTART;TZID=America/Toronto:20180329T180000
DTEND;TZID=America/Toronto:20180329T210000
DTSTAMP:20260424T125408
CREATED:20180327T165231Z
LAST-MODIFIED:20250428T180332Z
UID:90668-1522346400-1522357200@victorycigars.ca
SUMMARY:Pipe Night
DESCRIPTION:Pipe enthusiasts unite! New to smoking or an old vet…either way you will be welcomed with open arms and lots of support from your B’sOTL. Fire up the briar and sit for a puff while you discuss all things pipe related.  Starts at 6pm on the last Thursday of each month.  Welcome one and all over the age of 19!
URL:https://victorycigars.ca/event/pipe-night/
LOCATION:ONTARIO
CATEGORIES:Pipe Night
ORGANIZER;CN="Victory Cigars":MAILTO:gillian@victorycigars.ca
END:VEVENT
BEGIN:VEVENT
DTSTART;TZID=America/Toronto:20170427T183000
DTEND;TZID=America/Toronto:20170427T213000
DTSTAMP:20260424T125408
CREATED:20170404T173227Z
LAST-MODIFIED:20170404T173227Z
UID:8837-1493317800-1493328600@victorycigars.ca
SUMMARY:Lakeshore Smokestacks Pipe Club Meeting
DESCRIPTION:Meet with other pipe enthusiasts once a month at Victory Cigars. \nThe meetings are open to newcomers as well.  There are great folks at these meetings who know a lot about pipes and the world of pipe tobacco\, so come on down and join in one night to learn something.  On the other hand if you have lots of knowledge to share\, come and be a part of it.
URL:https://victorycigars.ca/event/lakeshore-smokestacks-pipe-club-meeting-2/
LOCATION:ONTARIO
CATEGORIES:Pipe Night
ATTACH;FMTTYPE=:
END:VEVENT
BEGIN:VEVENT
DTSTART;TZID=America/Toronto:20170330T183000
DTEND;TZID=America/Toronto:20170330T213000
DTSTAMP:20260424T125408
CREATED:20170327T221907Z
LAST-MODIFIED:20250428T171743Z
UID:90577-1490898600-1490909400@victorycigars.ca
SUMMARY:Fourth Anniversary of the Lakeshore Smokestacks Pipe Club
DESCRIPTION:From everyone here at VC\, we’d like to wish the ladies and gentlemen of the \nLakeshore Smokestacks Pipe Club a very happy fourth anniversary! \nAll are welcome to join in the fun starting at 6:30pm tonight at Victory Cigars.
URL:https://victorycigars.ca/event/fourth-anniversary-lakeshore-smokestacks-pipe-club/
LOCATION:ONTARIO
CATEGORIES:Pipe Night,Special Event
END:VEVENT
BEGIN:VEVENT
DTSTART;TZID=America/Toronto:20170223T183000
DTEND;TZID=America/Toronto:20170223T213000
DTSTAMP:20260424T125408
CREATED:20170222T205036Z
LAST-MODIFIED:20250428T171648Z
UID:90576-1487874600-1487885400@victorycigars.ca
SUMMARY:Lakeshore Smokestacks Pipe Club Meeting
DESCRIPTION:Meet with other pipe smokers on the last Thursday of each month.  New members welcome! \n 
URL:https://victorycigars.ca/event/lakeshore-smokestacks-pipe-club-meeting/
LOCATION:ONTARIO
CATEGORIES:Pipe Night
END:VEVENT
BEGIN:VEVENT
DTSTART;TZID=America/Toronto:20161201T170000
DTEND;TZID=America/Toronto:20161201T220000
DTSTAMP:20260424T125408
CREATED:20161128T134309Z
LAST-MODIFIED:20250428T170959Z
UID:136-1480611600-1480629600@victorycigars.ca
SUMMARY:Pipe Night With Eric Stokkebye
DESCRIPTION:
URL:https://victorycigars.ca/event/pipe-night-with-eric-stokkebye/
LOCATION:ONTARIO
CATEGORIES:Pipe Night
ATTACH;FMTTYPE=:
END:VEVENT
END:VCALENDAR