BEGIN:VCALENDAR
VERSION:2.0
PRODID:-//Victory Cigars - ECPv6.15.20//NONSGML v1.0//EN
CALSCALE:GREGORIAN
METHOD:PUBLISH
X-ORIGINAL-URL:https://victorycigars.ca
X-WR-CALDESC:Events for Victory Cigars
REFRESH-INTERVAL;VALUE=DURATION:PT1H
X-Robots-Tag:noindex
X-PUBLISHED-TTL:PT1H
BEGIN:VTIMEZONE
TZID:America/Toronto
BEGIN:DAYLIGHT
TZOFFSETFROM:-0500
TZOFFSETTO:-0400
TZNAME:EDT
DTSTART:20170312T070000
END:DAYLIGHT
BEGIN:STANDARD
TZOFFSETFROM:-0400
TZOFFSETTO:-0500
TZNAME:EST
DTSTART:20171105T060000
END:STANDARD
BEGIN:DAYLIGHT
TZOFFSETFROM:-0500
TZOFFSETTO:-0400
TZNAME:EDT
DTSTART:20180311T070000
END:DAYLIGHT
BEGIN:STANDARD
TZOFFSETFROM:-0400
TZOFFSETTO:-0500
TZNAME:EST
DTSTART:20181104T060000
END:STANDARD
BEGIN:DAYLIGHT
TZOFFSETFROM:-0500
TZOFFSETTO:-0400
TZNAME:EDT
DTSTART:20190310T070000
END:DAYLIGHT
BEGIN:STANDARD
TZOFFSETFROM:-0400
TZOFFSETTO:-0500
TZNAME:EST
DTSTART:20191103T060000
END:STANDARD
BEGIN:DAYLIGHT
TZOFFSETFROM:-0500
TZOFFSETTO:-0400
TZNAME:EDT
DTSTART:20200308T070000
END:DAYLIGHT
BEGIN:STANDARD
TZOFFSETFROM:-0400
TZOFFSETTO:-0500
TZNAME:EST
DTSTART:20201101T060000
END:STANDARD
BEGIN:DAYLIGHT
TZOFFSETFROM:-0500
TZOFFSETTO:-0400
TZNAME:EDT
DTSTART:20210314T070000
END:DAYLIGHT
BEGIN:STANDARD
TZOFFSETFROM:-0400
TZOFFSETTO:-0500
TZNAME:EST
DTSTART:20211107T060000
END:STANDARD
BEGIN:DAYLIGHT
TZOFFSETFROM:-0500
TZOFFSETTO:-0400
TZNAME:EDT
DTSTART:20220313T070000
END:DAYLIGHT
BEGIN:STANDARD
TZOFFSETFROM:-0400
TZOFFSETTO:-0500
TZNAME:EST
DTSTART:20221106T060000
END:STANDARD
BEGIN:DAYLIGHT
TZOFFSETFROM:-0500
TZOFFSETTO:-0400
TZNAME:EDT
DTSTART:20230312T070000
END:DAYLIGHT
BEGIN:STANDARD
TZOFFSETFROM:-0400
TZOFFSETTO:-0500
TZNAME:EST
DTSTART:20231105T060000
END:STANDARD
BEGIN:DAYLIGHT
TZOFFSETFROM:-0500
TZOFFSETTO:-0400
TZNAME:EDT
DTSTART:20240310T070000
END:DAYLIGHT
BEGIN:STANDARD
TZOFFSETFROM:-0400
TZOFFSETTO:-0500
TZNAME:EST
DTSTART:20241103T060000
END:STANDARD
BEGIN:DAYLIGHT
TZOFFSETFROM:-0500
TZOFFSETTO:-0400
TZNAME:EDT
DTSTART:20250309T070000
END:DAYLIGHT
BEGIN:STANDARD
TZOFFSETFROM:-0400
TZOFFSETTO:-0500
TZNAME:EST
DTSTART:20251102T060000
END:STANDARD
BEGIN:DAYLIGHT
TZOFFSETFROM:-0500
TZOFFSETTO:-0400
TZNAME:EDT
DTSTART:20260308T070000
END:DAYLIGHT
BEGIN:STANDARD
TZOFFSETFROM:-0400
TZOFFSETTO:-0500
TZNAME:EST
DTSTART:20261101T060000
END:STANDARD
BEGIN:DAYLIGHT
TZOFFSETFROM:-0500
TZOFFSETTO:-0400
TZNAME:EDT
DTSTART:20270314T070000
END:DAYLIGHT
BEGIN:STANDARD
TZOFFSETFROM:-0400
TZOFFSETTO:-0500
TZNAME:EST
DTSTART:20271107T060000
END:STANDARD
END:VTIMEZONE
BEGIN:VEVENT
DTSTART;TZID=America/Toronto:20260326T170000
DTEND;TZID=America/Toronto:20260326T210000
DTSTAMP:20260421T040343
CREATED:20260206T180805Z
LAST-MODIFIED:20260305T192117Z
UID:233418-1774544400-1774558800@victorycigars.ca
SUMMARY:An Evening With Erik Stokkebye
DESCRIPTION:An Evening with Erik Stokkebye \nThursday\, March 26 | 5:00pm till 9:00 pm \nCome and meet Erik in store. Enjoy a sample of Erik’s 4th generation tobacco. \nThis event is free to attend and is open to new pipe smokers as well as seasoned veterans. \nErik will be doing a pipe and tobacco presentation at 7:00pm with a Q&A afterward. \nFor the new pipe smoker who wants to try pipe smoking for the first time we will also have a complimentary corn cob pipe available for you to use with your pipe tobacco samples. \n4 new 4th Generation tobacco’s will be officially released. \nRepresenting his family’s fourth generation in the tobacco business\, Erik Stokkebye has been\nimmersed in the trade over his entire lifetime. Appropriately\, Erik is the founder and driving force\nbehind Erik Stokkebye 4th Generation tobaccos and 4th Generation pipes. \nHis family has been entrenched in tobacco since 1882\, when his great-grandfather\, Erik Peter\nStokkebye\, launched the Stokkebye Company in Odense\, Denmark. “When he started the\ncompany\,” says Erik\, “he moved into a four-story building with a factory in the back\, apartments\nupstairs\, and a retail store in front. The factory entrance is actually depicted on the tin for the\nlimited-edition tobacco we released last year: Small Batch Jubilæums Flake. “The building has\nnot housed a tobacco shop since the 1960s and is now a women’s clothing store\, but it and its\nhistory are intact. The original structure continues to stand today and is an official historic\nbuilding. “So it can’t be torn down\, because it’s under the supervision of the Danish government\,\nwhich is kind of cool.” \nTobaccos featured: \n1855 Virginia \n1931 Navy Flake \n1957 Vanilla \n1982 Aromatic \nPlan to pop in to the shop and share a bowl and some conversation with Erik! \n  \n 
URL:https://victorycigars.ca/event/an-evening-with-erik-stokkebye/
LOCATION:Victory Cigars Inc\, 215 KING STREET EAST\, OSHAWA\, ONTARIO\, L1H1C5\, Canada
CATEGORIES:In Store Event,Pipe Tobacco Feature,Special Event
ATTACH;FMTTYPE=image/png:https://victorycigars.ca/wp-content/uploads/2026/02/Erik-Stokkebye-2-1-e1772734879563.png
ORGANIZER;CN="Victory Cigars":MAILTO:gillian@victorycigars.ca
END:VEVENT
BEGIN:VEVENT
DTSTART;TZID=America/Toronto:20240220T160000
DTEND;TZID=America/Toronto:20240220T200000
DTSTAMP:20260421T040343
CREATED:20240126T210039Z
LAST-MODIFIED:20240208T221242Z
UID:137278-1708444800-1708459200@victorycigars.ca
SUMMARY:International Pipe Smoking Day 2024
DESCRIPTION:Join us for a special event filled with camaraderie and celebration as we honour the tradition of pipe smoking on International Pipe Smoking Day! Established to foster a global appreciation for the art and pleasure of pipe tobacco\, this day has become a cherished occasion for enthusiasts worldwide. \nTom from Brigham Canada will be here with TOM’S TRUNK SHOW.  Tom will be offering the most unique pipes in various sizes and shapes\, all priced to SELL! \nThose who purchase will also receive add-on swag to take home. \nMark your calendars and prepare to indulge in the warmth of fellowship and the joy of premium pipes and tobaccos. This is an event pipe enthusiasts won’t want to miss!
URL:https://victorycigars.ca/event/international-pipe-smoking-day-2024/
LOCATION:Victory Cigars Inc\, 215 KING STREET EAST\, OSHAWA\, ONTARIO\, L1H1C5\, Canada
CATEGORIES:15 Year Anniversary,In Store Event,In Store SALE,Pipe Night,Pipe Tobacco Feature,Special Event
ATTACH;FMTTYPE=image/png:https://victorycigars.ca/wp-content/uploads/2024/01/Toms-Trunk-Show.png
ORGANIZER;CN="Victory Cigars":MAILTO:gillian@victorycigars.ca
END:VEVENT
BEGIN:VEVENT
DTSTART;VALUE=DATE:20190218
DTEND;VALUE=DATE:20190224
DTSTAMP:20260421T040343
CREATED:20190217T004641Z
LAST-MODIFIED:20250429T171843Z
UID:73666-1550448000-1550966399@victorycigars.ca
SUMMARY:Pipe Tobacco Of The Week
DESCRIPTION:Aged Burley\, Virginia and a hint of Oriental.  Mildly cased and sweetened with carefully selected flavours for a mild\, smooth aromatic smoke.  Sit back and light up your pipe and enjoy the end of another day.\n(Bulk quantities start at a 20g minimum.)\n50g | $40 plus HST
URL:https://victorycigars.ca/event/pipe-tobacco-of-the-week/
LOCATION:Victory Cigars Inc\, 215 KING STREET EAST\, OSHAWA\, ONTARIO\, L1H1C5\, Canada
CATEGORIES:Pipe Tobacco Feature
ATTACH;FMTTYPE=:
ORGANIZER;CN="Victory Cigars":MAILTO:gillian@victorycigars.ca
END:VEVENT
BEGIN:VEVENT
DTSTART;VALUE=DATE:20180723
DTEND;VALUE=DATE:20180730
DTSTAMP:20260421T040343
CREATED:20180722T220345Z
LAST-MODIFIED:20250428T181756Z
UID:69431-1532304000-1532908799@victorycigars.ca
SUMMARY:Pure Pleasure Pipe Tobacco Feature
DESCRIPTION:This is the perfect campfire smoke. \nMild and aromatic…stay mellow with Pure Pleasure pipe tobacco. \nHave a chill summer with this in your bowl.
URL:https://victorycigars.ca/event/pure-pleasure-pipe-tobacco-feature/
LOCATION:Victory Cigars Inc\, 215 KING STREET EAST\, OSHAWA\, ONTARIO\, L1H1C5\, Canada
CATEGORIES:In Store Event,Pipe Tobacco Feature
ATTACH;FMTTYPE=:
ORGANIZER;CN="Victory Cigars":MAILTO:gillian@victorycigars.ca
END:VEVENT
BEGIN:VEVENT
DTSTART;VALUE=DATE:20180226
DTEND;VALUE=DATE:20180305
DTSTAMP:20260421T040343
CREATED:20180225T213444Z
LAST-MODIFIED:20250428T180209Z
UID:90663-1519603200-1520207999@victorycigars.ca
SUMMARY:Natural Cavendish Pipe Tobacco Feature
DESCRIPTION:Natural Cavendish is mild and pleasantly sweet.
URL:https://victorycigars.ca/event/natural-cavendish-pipe-tobacco-feature/
LOCATION:Victory Cigars Inc\, 215 KING STREET EAST\, OSHAWA\, ONTARIO\, L1H1C5\, Canada
CATEGORIES:In Store Event,Pipe Tobacco Feature
ATTACH;FMTTYPE=:
ORGANIZER;CN="Victory Cigars":MAILTO:gillian@victorycigars.ca
END:VEVENT
BEGIN:VEVENT
DTSTART;VALUE=DATE:20180212
DTEND;VALUE=DATE:20180219
DTSTAMP:20260421T040343
CREATED:20180213T134517Z
LAST-MODIFIED:20250428T175828Z
UID:90660-1518393600-1518998399@victorycigars.ca
SUMMARY:Solitude - A Black Cavendish with Vanilla
DESCRIPTION:Cool burning and smooth.  Super mild and aromatic. \nBlack Cavendish with a hint of vanilla.
URL:https://victorycigars.ca/event/solitude-black-cavendish-vanilla/
LOCATION:Victory Cigars Inc\, 215 KING STREET EAST\, OSHAWA\, ONTARIO\, L1H1C5\, Canada
CATEGORIES:In Store Event,Pipe Tobacco Feature
ATTACH;FMTTYPE=:
ORGANIZER;CN="Victory Cigars":MAILTO:gillian@victorycigars.ca
END:VEVENT
END:VCALENDAR