BEGIN:VCALENDAR
VERSION:2.0
PRODID:-//Victory Cigars - ECPv6.15.20//NONSGML v1.0//EN
CALSCALE:GREGORIAN
METHOD:PUBLISH
X-ORIGINAL-URL:https://victorycigars.ca
X-WR-CALDESC:Events for Victory Cigars
REFRESH-INTERVAL;VALUE=DURATION:PT1H
X-Robots-Tag:noindex
X-PUBLISHED-TTL:PT1H
BEGIN:VTIMEZONE
TZID:America/Toronto
BEGIN:DAYLIGHT
TZOFFSETFROM:-0500
TZOFFSETTO:-0400
TZNAME:EDT
DTSTART:20240310T070000
END:DAYLIGHT
BEGIN:STANDARD
TZOFFSETFROM:-0400
TZOFFSETTO:-0500
TZNAME:EST
DTSTART:20241103T060000
END:STANDARD
BEGIN:DAYLIGHT
TZOFFSETFROM:-0500
TZOFFSETTO:-0400
TZNAME:EDT
DTSTART:20250309T070000
END:DAYLIGHT
BEGIN:STANDARD
TZOFFSETFROM:-0400
TZOFFSETTO:-0500
TZNAME:EST
DTSTART:20251102T060000
END:STANDARD
BEGIN:DAYLIGHT
TZOFFSETFROM:-0500
TZOFFSETTO:-0400
TZNAME:EDT
DTSTART:20260308T070000
END:DAYLIGHT
BEGIN:STANDARD
TZOFFSETFROM:-0400
TZOFFSETTO:-0500
TZNAME:EST
DTSTART:20261101T060000
END:STANDARD
END:VTIMEZONE
BEGIN:VEVENT
DTSTART;TZID=America/Toronto:20250906T120000
DTEND;TZID=America/Toronto:20250906T170000
DTSTAMP:20260424T103408
CREATED:20250627T191624Z
LAST-MODIFIED:20250808T194354Z
UID:210729-1757160000-1757178000@victorycigars.ca
SUMMARY:Crowned Heads Cigar Event with Miguel Schoedel
DESCRIPTION:Official Canadian Launch of the 2025 Las Calaveras Ltd. Edition\nSaturday\, September 6\, 2025 | 12:00 PM – 5:00 PM\nLocation: Victory Cigars – 215 King Street East\, Oshawa\nNo admission fee – open to all cigar lovers! \nMeet the Master Behind the Blends\nVictory Cigars is proud to host Miguel Schoedel\, Master Blender for Crowned Heads Cigars\, for an exclusive in-store event. This is your chance to meet one of the most respected figures in the cigar world and get an insider look at what goes into making some of the most sought-after blends on the market. \nWhat to Expect \n\nMeet Miguel Schoedel – Crowned Heads Master Blender\, cigar guru\, and all-around great guy\nEvent-Only Deals – One-day exclusive pricing on Crowned Heads cigars\nPrizes & Draws – Fantastic giveaways happening throughout the afternoon\nA True Cigar Experience – Learn\, taste\, and discover with fellow enthusiasts\n\nAbout Miguel Schoedel\nMiguel Schoedel is a veteran of the cigar industry\, known for his passion\, deep tobacco knowledge\, and talent for crafting award-winning blends. After years with CAO and General Cigar\, he joined Crowned Heads and quickly became the creative force behind hits like Mil Días\, Juárez\, and Le Pâtissier. \nMiguel’s style balances innovation with tradition — often inspired by music\, culture\, and the belief that a great cigar tells a story. This is a rare opportunity to chat with the blender behind the brand and gain insight into his creative process. \nAbout Crowned Heads Cigars\nFounded in 2011 in Nashville\, Tennessee\, Crowned Heads blends modern attitude with classic cigar-making. Known for their dedication to flavour\, craftsmanship\, and artistic presentation\, their portfolio includes celebrated blends like Four Kicks\, La Imperiosa\, Las Calaveras\, and more. Each release reflects their motto: “Crowned Heads are not followers.” \nDon’t Miss This One-Day-Only Experience!\nWhether you’re a longtime Crowned Heads fan or just curious about what makes their cigars special\, this event is not to be missed. Bring a friend\, grab a smoke\, and enjoy a Saturday afternoon with one of the industry’s finest. \n🕛 Noon to 5:00 PM — September 6\, 2025\n📍 Victory Cigars | Oshawa\n💥 No cover charge – just bring your love of cigars! \n 
URL:https://victorycigars.ca/event/crowned-heads-cigar-event-with-miguel-schoedel/
LOCATION:Victory Cigars Inc\, 215 KING STREET EAST\, OSHAWA\, ONTARIO\, L1H1C5\, Canada
CATEGORIES:Cigar Event,Cigar Specials,In Store Event,In Store SALE,Special Event
ATTACH;FMTTYPE=image/png:https://victorycigars.ca/wp-content/uploads/2025/06/Miguel-Schoedel-Crowned-Heads-September-2025.png
ORGANIZER;CN="Victory Cigars":MAILTO:gillian@victorycigars.ca
END:VEVENT
BEGIN:VEVENT
DTSTART;TZID=America/Toronto:20250920T120000
DTEND;TZID=America/Toronto:20250920T180000
DTSTAMP:20260424T103408
CREATED:20250904T180430Z
LAST-MODIFIED:20250904T192441Z
UID:217742-1758369600-1758391200@victorycigars.ca
SUMMARY:OktoberCigarFest 2025
DESCRIPTION:OktoberCigarFest 2025\nSince 2013\, OktoberCigarFest has been Victory Cigars’ can’t-miss fall tradition—a one-day celebration where premium cigars meet Bavarian cheer. Every September\, we roll out the steins\, fire up the grills\, and fill the air with the unmistakable sound of laughter\, live music\, and clinking glasses. This year promises the same unbeatable mix of authentic German food\, world-class cigars\, and lively entertainment that’s made our annual festival a staple for over a decade. \nDate: Saturday\, September 20\, 2025Time: 12:00 PM – 6:00 PMLocation: Victory Cigars\, Oshawa\, OntarioAdmission: $50 + HST (19+ Event) \nBuy Your Ticket Here! \nRaise Your Stein\, Light Your Stick\nJoin us for our annual OktoberCigarFest—a mashup of Bavarian tradition\, rock n roll swagger\, and premium cigars. \nYour Ticket Includes:\n1 Paulaner Beer – the classic Oktoberfest pour \n1 Authentic German Meal – prepared by Avanti Trattoria \n1 Limited Edition Quesada Oktoberfest Bavarian Cigar \nLive Entertainment with Sean Roberts \nGreat Door Prizes & Exclusive Cigar Deals running all day \nTickets\n🎟️ $50 + HSTTickets available online and in the shop. \nOnline and in store ticket purchases available for pickup as of September 10th. \nQuantities are limited—don’t wait to lock in your spot. \nGood to Know\nAge 19+ (Valid ID required) \nLocation: Victory Cigars\, plenty of parking on Ray St (directly across from the shop) and on King Street East\, Oshawa\, ON \nEvent runs rain or shine.
URL:https://victorycigars.ca/event/oktobercigarfest-2025/
LOCATION:Victory Cigars Inc\, 215 KING STREET EAST\, OSHAWA\, ONTARIO\, L1H1C5\, Canada
CATEGORIES:Cigar Event,Cigar Specials,In Store Event,In Store SALE,Special Event
ATTACH;FMTTYPE=image/png:https://victorycigars.ca/wp-content/uploads/2025/09/OktoberCigarFest-2025-1-e1757010387663.png
ORGANIZER;CN="Victory Cigars":MAILTO:gillian@victorycigars.ca
END:VEVENT
END:VCALENDAR