BEGIN:VCALENDAR
VERSION:2.0
PRODID:-//Victory Cigars - ECPv6.15.20//NONSGML v1.0//EN
CALSCALE:GREGORIAN
METHOD:PUBLISH
X-WR-CALNAME:Victory Cigars
X-ORIGINAL-URL:https://victorycigars.ca
X-WR-CALDESC:Events for Victory Cigars
REFRESH-INTERVAL;VALUE=DURATION:PT1H
X-Robots-Tag:noindex
X-PUBLISHED-TTL:PT1H
BEGIN:VTIMEZONE
TZID:America/Toronto
BEGIN:DAYLIGHT
TZOFFSETFROM:-0500
TZOFFSETTO:-0400
TZNAME:EDT
DTSTART:20240310T070000
END:DAYLIGHT
BEGIN:STANDARD
TZOFFSETFROM:-0400
TZOFFSETTO:-0500
TZNAME:EST
DTSTART:20241103T060000
END:STANDARD
BEGIN:DAYLIGHT
TZOFFSETFROM:-0500
TZOFFSETTO:-0400
TZNAME:EDT
DTSTART:20250309T070000
END:DAYLIGHT
BEGIN:STANDARD
TZOFFSETFROM:-0400
TZOFFSETTO:-0500
TZNAME:EST
DTSTART:20251102T060000
END:STANDARD
BEGIN:DAYLIGHT
TZOFFSETFROM:-0500
TZOFFSETTO:-0400
TZNAME:EDT
DTSTART:20260308T070000
END:DAYLIGHT
BEGIN:STANDARD
TZOFFSETFROM:-0400
TZOFFSETTO:-0500
TZNAME:EST
DTSTART:20261101T060000
END:STANDARD
END:VTIMEZONE
BEGIN:VEVENT
DTSTART;TZID=America/Toronto:20250815T160000
DTEND;TZID=America/Toronto:20250815T200000
DTSTAMP:20260423T235404
CREATED:20250730T201321Z
LAST-MODIFIED:20250808T201705Z
UID:214057-1755273600-1755288000@victorycigars.ca
SUMMARY:EPC Official Canadian Cigar Launch Event
DESCRIPTION:EPC Cigar Launch Event \n📅 Friday\, August 15🕓 4:00 PM – 8:00 PM📍 Victory Cigars – 215 King St. E.\, Oshawa \nJoin us for a special evening as we welcome Ken Silverio\, the VIP EPC Global Ambassador\, for the official Canadian launch of the EPC Essence Maduro and Essence Sumatra. \nHosted by our very own Simon “The Saint” Timperley\, this event promises:✔️ Fantastic deals on all EPC cigars🎁 Great prizes to be won🔥 A chance to enjoy a cigar with Simon and Ken \nCome celebrate the launch\, discover something new\, and share in the camaraderie of the leaf. \nKen Silverio serves as the Global Brand Ambassador for E.P. Carrillo Cigars\, one of the most acclaimed names in the premium cigar world. Representing the legendary Ernesto Perez-Carrillo—creator of multiple Cigar Aficionado Top 10 blends including the 2023 #1 Cigar of the Year—Ken brings unmatched insight\, passion\, and personality to every appearance. With years of industry experience and a deep knowledge of E.P.C.’s rich legacy\, Ken connects cigar lovers to the heart of the brand with every handshake and humidor conversation. Don’t miss this chance to meet one of the cigar industry’s true storytellers. \n👉 Must be 19+ to attend.
URL:https://victorycigars.ca/event/epc-official-canadian-cigar-launch-event/
LOCATION:Victory Cigars Inc\, 215 KING STREET EAST\, OSHAWA\, ONTARIO\, L1H1C5\, Canada
CATEGORIES:Cigar Event,Cigar Launch,In Store Event,In Store SALE,Special Event
ATTACH;FMTTYPE=image/png:https://victorycigars.ca/wp-content/uploads/2025/07/EPC-Canadian-Launch-August-15th-with-Ken-Silverio.png
ORGANIZER;CN="Victory Cigars":MAILTO:gillian@victorycigars.ca
END:VEVENT
END:VCALENDAR