BEGIN:VCALENDAR
VERSION:2.0
PRODID:-//Victory Cigars - ECPv6.15.20//NONSGML v1.0//EN
CALSCALE:GREGORIAN
METHOD:PUBLISH
X-ORIGINAL-URL:https://victorycigars.ca
X-WR-CALDESC:Events for Victory Cigars
REFRESH-INTERVAL;VALUE=DURATION:PT1H
X-Robots-Tag:noindex
X-PUBLISHED-TTL:PT1H
BEGIN:VTIMEZONE
TZID:America/Toronto
BEGIN:DAYLIGHT
TZOFFSETFROM:-0500
TZOFFSETTO:-0400
TZNAME:EDT
DTSTART:20240310T070000
END:DAYLIGHT
BEGIN:STANDARD
TZOFFSETFROM:-0400
TZOFFSETTO:-0500
TZNAME:EST
DTSTART:20241103T060000
END:STANDARD
BEGIN:DAYLIGHT
TZOFFSETFROM:-0500
TZOFFSETTO:-0400
TZNAME:EDT
DTSTART:20250309T070000
END:DAYLIGHT
BEGIN:STANDARD
TZOFFSETFROM:-0400
TZOFFSETTO:-0500
TZNAME:EST
DTSTART:20251102T060000
END:STANDARD
BEGIN:DAYLIGHT
TZOFFSETFROM:-0500
TZOFFSETTO:-0400
TZNAME:EDT
DTSTART:20260308T070000
END:DAYLIGHT
BEGIN:STANDARD
TZOFFSETFROM:-0400
TZOFFSETTO:-0500
TZNAME:EST
DTSTART:20261101T060000
END:STANDARD
END:VTIMEZONE
BEGIN:VEVENT
DTSTART;TZID=America/Toronto:20251103T000100
DTEND;TZID=America/Toronto:20251208T235900
DTSTAMP:20260423T143839
CREATED:20251031T174254Z
LAST-MODIFIED:20251104T205653Z
UID:221968-1762128060-1765238340@victorycigars.ca
SUMMARY:Victory Coffee Launch Contest!
DESCRIPTION:⚓ Victory Coffee Launch Contest – For Victory Cigars & Victory Pipes!\nAnchored in craftsmanship\, roasted for adventure. \nDates: November 3 – December 8\, 2025Draw: December 9\, 2025 (in-store at Victory Cigars)Location: Victory Cigars\, Oshawa\, OntarioEligibility: Open to Canadian residents aged 19+ (excluding Québec) \nEvent Description:Victory Coffee & Provision Co. is officially setting sail! To celebrate the launch of our new coffee line — Calm Seas Connecticut\, Rio de Sol Nicaraguan\, and Iron Compass Oscuro — we’re giving you the chance to win a Breville Bambino Plus espresso maker\, valued at over $600. \nEach bag of Victory Coffee purchased between November 3 and December 8 earns you one entry into the draw.Can’t make it in-store? Order online — you’re still eligible to enter! (Purchase can be made on either Victory Cigars or Victory Pipes website.) \nNo purchase necessary: mail-in entry option available (see contest rules below for instructions!).Full contest rules and details available below. \nPrize Draw: December 9\, 2025 • Victory Cigars  \nCoffee Blends Available:☕ Calm Seas Connecticut — Smooth Medium Decaf Roast☕ Rio de Sol Nicaraguan — Medium Dark Nicaraguan Roast☕ Iron Compass Oscuro— Dark Espresso Roast \nFair winds\, full sails\, and strong coffee — best of luck to all who enter! \nVictory Coffee & Provision Co. – Breville Bambino Plus Espresso Maker GiveawayOfficial Contest Rules & Regulations \n1. SponsorThis giveaway (the “Contest”) is sponsored by Victory Cigars\, Oshawa\, Ontario (the “Sponsor”). \n2. EligibilityOpen only to legal residents of Canada\, excluding Québec\, who are 19 years of age or older at the time of entry. Employees and immediate family members of the Sponsor or its affiliates are not eligible. Entry is void where prohibited by law. \n3. Contest PeriodEntries will be accepted from 12:01 a.m. Eastern Time on November 3\, 2025 until 11:59 p.m. Eastern Time on December 8\, 2025 (the “Entry Period”). The draw will be held in-store on December 9\, 2025. \n4. How to Enter(a) Eligible purchasers: One (1) entry will be automatically awarded for each bag of Victory Coffee purchased at the Sponsor’s retail store or online shop during the Entry Period.(b) No Purchase Necessary: To enter without purchase\, send a handwritten postcard including your name\, address\, email address\, phone number\, and “Coffee Contest Entry” to:Victory Cigars\, 215 King Street East\, Oshawa\, ON\, L1H 1C5.Postcards must be received by December 8\, 2025 at 11:59 p.m. ET. Limit one (1) postcard entry per person. \n5. PrizeOne (1) prize will be awarded: a Breville Bambino Plus Espresso Maker (Model BES500) valued at approximately CAD $600. Odds of winning depend on the number of eligible entries received. \n6. Selection of WinnerOne (1) eligible entry will be selected by random draw on December 9\, 2025. Before being declared the winner\, the selected entrant must correctly answer a time-limited mathematical skill-testing question without assistance. If the selected entrant fails to do so\, another entrant may be chosen. \n7. NotificationThe potential winner will be contacted by email or phone within five (5) business days following the draw. If the potential winner cannot be reached within ten (10) business days or is deemed ineligible\, another entrant may be selected. \n8. Prize ClaimThe prize must be claimed in person at the Sponsor’s store within thirty (30) days of notification. The winner may be required to sign a release and affidavit of eligibility. \n9. PublicityBy accepting the prize\, the winner consents to the Sponsor’s use of their name\, likeness\, and city/province of residence for promotional purposes without further compensation\, unless prohibited by law. \n10. LiabilityBy entering\, participants release and hold harmless the Sponsor\, its employees\, and affiliates from any claims or damages arising from participation or prize use. \n11. PrivacyPersonal information collected will be used solely for contest administration and marketing unless the entrant opts out. Information will not be sold or shared with third parties. \n12. General ConditionsThe Sponsor reserves the right to cancel\, modify\, or suspend the Contest for any reason beyond its control. Entries that are incomplete\, fraudulent\, or tampered with will be disqualified. The Sponsor’s decisions are final. \n13. Governing LawThe Contest is governed by the laws of Ontario and the federal laws of Canada. Any disputes shall be resolved in Ontario courts. \n14. Prize ConditionsThe prize is non-transferable and not redeemable for cash. The Sponsor reserves the right to substitute a prize of equal or greater value if necessary.
URL:https://victorycigars.ca/event/victory-coffee-launch-contest/
LOCATION:Victory Cigars Inc\, 215 KING STREET EAST\, OSHAWA\, ONTARIO\, L1H1C5\, Canada
CATEGORIES:In Store Event,Special Event
ATTACH;FMTTYPE=image/png:https://victorycigars.ca/wp-content/uploads/2025/10/Contest-Poster-e1761932123315.png
ORGANIZER;CN="Victory Cigars":MAILTO:gillian@victorycigars.ca
END:VEVENT
END:VCALENDAR