BEGIN:VCALENDAR
VERSION:2.0
PRODID:-//Victory Cigars - ECPv6.15.20//NONSGML v1.0//EN
CALSCALE:GREGORIAN
METHOD:PUBLISH
X-WR-CALNAME:Victory Cigars
X-ORIGINAL-URL:https://victorycigars.ca
X-WR-CALDESC:Events for Victory Cigars
REFRESH-INTERVAL;VALUE=DURATION:PT1H
X-Robots-Tag:noindex
X-PUBLISHED-TTL:PT1H
BEGIN:VTIMEZONE
TZID:America/Toronto
BEGIN:DAYLIGHT
TZOFFSETFROM:-0500
TZOFFSETTO:-0400
TZNAME:EDT
DTSTART:20250309T070000
END:DAYLIGHT
BEGIN:STANDARD
TZOFFSETFROM:-0400
TZOFFSETTO:-0500
TZNAME:EST
DTSTART:20251102T060000
END:STANDARD
BEGIN:DAYLIGHT
TZOFFSETFROM:-0500
TZOFFSETTO:-0400
TZNAME:EDT
DTSTART:20260308T070000
END:DAYLIGHT
BEGIN:STANDARD
TZOFFSETFROM:-0400
TZOFFSETTO:-0500
TZNAME:EST
DTSTART:20261101T060000
END:STANDARD
BEGIN:DAYLIGHT
TZOFFSETFROM:-0500
TZOFFSETTO:-0400
TZNAME:EDT
DTSTART:20270314T070000
END:DAYLIGHT
BEGIN:STANDARD
TZOFFSETFROM:-0400
TZOFFSETTO:-0500
TZNAME:EST
DTSTART:20271107T060000
END:STANDARD
END:VTIMEZONE
BEGIN:VEVENT
DTSTART;TZID=America/Toronto:20260326T170000
DTEND;TZID=America/Toronto:20260326T210000
DTSTAMP:20260425T115524
CREATED:20260206T180805Z
LAST-MODIFIED:20260305T192117Z
UID:233418-1774544400-1774558800@victorycigars.ca
SUMMARY:An Evening With Erik Stokkebye
DESCRIPTION:An Evening with Erik Stokkebye \nThursday\, March 26 | 5:00pm till 9:00 pm \nCome and meet Erik in store. Enjoy a sample of Erik’s 4th generation tobacco. \nThis event is free to attend and is open to new pipe smokers as well as seasoned veterans. \nErik will be doing a pipe and tobacco presentation at 7:00pm with a Q&A afterward. \nFor the new pipe smoker who wants to try pipe smoking for the first time we will also have a complimentary corn cob pipe available for you to use with your pipe tobacco samples. \n4 new 4th Generation tobacco’s will be officially released. \nRepresenting his family’s fourth generation in the tobacco business\, Erik Stokkebye has been\nimmersed in the trade over his entire lifetime. Appropriately\, Erik is the founder and driving force\nbehind Erik Stokkebye 4th Generation tobaccos and 4th Generation pipes. \nHis family has been entrenched in tobacco since 1882\, when his great-grandfather\, Erik Peter\nStokkebye\, launched the Stokkebye Company in Odense\, Denmark. “When he started the\ncompany\,” says Erik\, “he moved into a four-story building with a factory in the back\, apartments\nupstairs\, and a retail store in front. The factory entrance is actually depicted on the tin for the\nlimited-edition tobacco we released last year: Small Batch Jubilæums Flake. “The building has\nnot housed a tobacco shop since the 1960s and is now a women’s clothing store\, but it and its\nhistory are intact. The original structure continues to stand today and is an official historic\nbuilding. “So it can’t be torn down\, because it’s under the supervision of the Danish government\,\nwhich is kind of cool.” \nTobaccos featured: \n1855 Virginia \n1931 Navy Flake \n1957 Vanilla \n1982 Aromatic \nPlan to pop in to the shop and share a bowl and some conversation with Erik! \n  \n 
URL:https://victorycigars.ca/event/an-evening-with-erik-stokkebye/
LOCATION:Victory Cigars Inc\, 215 KING STREET EAST\, OSHAWA\, ONTARIO\, L1H1C5\, Canada
CATEGORIES:In Store Event,Pipe Tobacco Feature,Special Event
ATTACH;FMTTYPE=image/png:https://victorycigars.ca/wp-content/uploads/2026/02/Erik-Stokkebye-2-1-e1772734879563.png
ORGANIZER;CN="Victory Cigars":MAILTO:gillian@victorycigars.ca
END:VEVENT
BEGIN:VEVENT
DTSTART;TZID=America/Toronto:20260613T120000
DTEND;TZID=America/Toronto:20260613T160000
DTSTAMP:20260425T115524
CREATED:20260317T164946Z
LAST-MODIFIED:20260317T164946Z
UID:235720-1781352000-1781366400@victorycigars.ca
SUMMARY:Father’s Day Event Featuring My Father Cigars
DESCRIPTION:Father’s Day Event Featuring My Father CigarsSaturday\, June 13th | 12:00 PM – 4:00 PM \nJoin us at Victory Cigars for a special Father’s Day celebration honouring great cigars\, good company\, and the legends we call Dad. \nWe’re proud to feature My Father Cigars\, one of the most respected names in the cigar world. Whether you’re celebrating with your father\, remembering him\, or simply enjoying the day your own way—this is the perfect excuse to settle in\, light up\, and take it slow. \nWhat to expect: \nSpecial pricing on all in-stock My Father cigars \nPurchase a My Father Sampler Pack and receive an additional cigar for just a penny \nGreat prizes throughout the event \nA relaxed lounge atmosphere with fellow enthusiasts \nMore details to follow as we get closer.
URL:https://victorycigars.ca/event/fathers-day-event-featuring-my-father-cigars/
LOCATION:Victory Cigars Inc\, 215 KING STREET EAST\, OSHAWA\, ONTARIO\, L1H1C5\, Canada
CATEGORIES:Cigar Event,In Store Event,In Store SALE,Special Event
ATTACH;FMTTYPE=image/png:https://victorycigars.ca/wp-content/uploads/2026/03/Fathers-Day-Event-Featuring-My-Father-Cigars-e1773766097376.png
ORGANIZER;CN="Victory Cigars":MAILTO:gillian@victorycigars.ca
END:VEVENT
BEGIN:VEVENT
DTSTART;TZID=America/Toronto:20260626T120000
DTEND;TZID=America/Toronto:20260626T170000
DTSTAMP:20260425T115524
CREATED:20260203T201753Z
LAST-MODIFIED:20260305T183351Z
UID:233209-1782475200-1782493200@victorycigars.ca
SUMMARY:La Aurora Creed Launch with Manuel Inoa
DESCRIPTION:Friday\, June 26 \nWe welcome Manuel Inoa of La Aurora for an evening marking the introduction of the new La Aurora Creed cigar. \nThis event offers an opportunity to spend time with one of the industry’s most respected blenders and to explore a release that reflects La Aurora’s evolving approach to balance\, flavour\, and modern expression. \nLa Aurora Family Creed is a full-bodied cigar produced in the Dominican Republic\, built around a sun-grown wrapper with Dominican binder and a blended core of Dominican\, Nicaraguan\, and Pennsylvanian tobaccos. The profile unfolds with notes of cedar\, citrus zest\, roasted nuts\, earth\, and leather\, offering depth without haste. \nCreated in honour of the León family legacy at La Aurora\, Creed is designed with strength and balance in mind — best suited to experienced smokers seeking a deliberate\, hour-long smoke. \nFurther details will be shared as they are confirmed. For now\, mark the date and plan to join us as this new chapter is introduced.
URL:https://victorycigars.ca/event/la-aurora-creed-launch-with-manuel-inoa/
LOCATION:Victory Cigars Inc\, 215 KING STREET EAST\, OSHAWA\, ONTARIO\, L1H1C5\, Canada
CATEGORIES:Cigar Event,In Store Event,Special Event
ATTACH;FMTTYPE=image/png:https://victorycigars.ca/wp-content/uploads/2026/02/Manuel-Inoa-e1770149641312.png
ORGANIZER;CN="Victory Cigars":MAILTO:gillian@victorycigars.ca
END:VEVENT
END:VCALENDAR