BEGIN:VCALENDAR
VERSION:2.0
PRODID:-//Victory Cigars - ECPv6.15.20//NONSGML v1.0//EN
CALSCALE:GREGORIAN
METHOD:PUBLISH
X-ORIGINAL-URL:https://victorycigars.ca
X-WR-CALDESC:Events for Victory Cigars
REFRESH-INTERVAL;VALUE=DURATION:PT1H
X-Robots-Tag:noindex
X-PUBLISHED-TTL:PT1H
BEGIN:VTIMEZONE
TZID:America/Toronto
BEGIN:DAYLIGHT
TZOFFSETFROM:-0500
TZOFFSETTO:-0400
TZNAME:EDT
DTSTART:20150308T070000
END:DAYLIGHT
BEGIN:STANDARD
TZOFFSETFROM:-0400
TZOFFSETTO:-0500
TZNAME:EST
DTSTART:20151101T060000
END:STANDARD
BEGIN:DAYLIGHT
TZOFFSETFROM:-0500
TZOFFSETTO:-0400
TZNAME:EDT
DTSTART:20160313T070000
END:DAYLIGHT
BEGIN:STANDARD
TZOFFSETFROM:-0400
TZOFFSETTO:-0500
TZNAME:EST
DTSTART:20161106T060000
END:STANDARD
BEGIN:DAYLIGHT
TZOFFSETFROM:-0500
TZOFFSETTO:-0400
TZNAME:EDT
DTSTART:20170312T070000
END:DAYLIGHT
BEGIN:STANDARD
TZOFFSETFROM:-0400
TZOFFSETTO:-0500
TZNAME:EST
DTSTART:20171105T060000
END:STANDARD
BEGIN:DAYLIGHT
TZOFFSETFROM:-0500
TZOFFSETTO:-0400
TZNAME:EDT
DTSTART:20180311T070000
END:DAYLIGHT
BEGIN:STANDARD
TZOFFSETFROM:-0400
TZOFFSETTO:-0500
TZNAME:EST
DTSTART:20181104T060000
END:STANDARD
END:VTIMEZONE
BEGIN:VEVENT
DTSTART;TZID=America/Toronto:20171014T110000
DTEND;TZID=America/Toronto:20171014T150000
DTSTAMP:20260423T165621
CREATED:20171010T161621Z
LAST-MODIFIED:20250428T174028Z
UID:90621-1507978800-1507993200@victorycigars.ca
SUMMARY:Omar Ortez + Flor de Cana Rum Today!
DESCRIPTION:We are proud to grow our family\, and with long-standing friendships that we consider family. We are proud to work with Nicolas Brum and his Kretek International team\, introducing the Omar Original line to Canada in October 2017! Join us today as we officially launch the new Omar Ortez cigar! Also joining us today is Karen Moodie from Flor de Cana\, doing rum tasting in the shop at the same time as Omar is showcasing his great new cigar.  This is an event you will not want to miss!\n\nOmar Ortez Jr.
URL:https://victorycigars.ca/event/omar-ortez-flor-de-cana-rum-today/
LOCATION:ONTARIO
CATEGORIES:Cigar Event,In Store Event,Special Event
ATTACH;FMTTYPE=:
END:VEVENT
BEGIN:VEVENT
DTSTART;TZID=America/Toronto:20170923T120000
DTEND;TZID=America/Toronto:20170923T170000
DTSTAMP:20260423T165621
CREATED:20170920T173421Z
LAST-MODIFIED:20250428T173847Z
UID:90619-1506168000-1506186000@victorycigars.ca
SUMMARY:Erik Espinosa In the HOUSE!!
DESCRIPTION:Erik Espinosa is here on Saturday September 23 from noon until 5. Stop by and see what crazy deals we have for you and try some new cigars!
URL:https://victorycigars.ca/event/erik-espinosa-house/
LOCATION:ONTARIO
CATEGORIES:Cigar Event,In Store Event,Special Event
END:VEVENT
BEGIN:VEVENT
DTSTART;VALUE=DATE:20170916
DTEND;VALUE=DATE:20170917
DTSTAMP:20260423T165621
CREATED:20170710T170436Z
LAST-MODIFIED:20250428T173824Z
UID:90614-1505520000-1505606399@victorycigars.ca
SUMMARY:OktoberCigarFest 2017
DESCRIPTION:OktoberCigarFest 2017 was an enormous success\, thanks to you\, our clients! Special thanks go out to the following as well:\nShrimp Cocktail and their team for the excellent food\nKretek and their team for a brilliant effort in making these events go smoothly without exception\nTanja for showing up year after year as our authentic German participant donning her dirndl and a big smile\nGlen for being DJ extraordinaire\nand MOMBACHO for the delicious smokes! What a group! You make us happy to be tobacconists.\nCheers to you all\, and next year let’s make it all happen again.     \nFull photo albums on our Facebook page.\nThanks again everyone!\n 
URL:https://victorycigars.ca/event/oktobercigarfest-2017/
LOCATION:ONTARIO
CATEGORIES:Cigar Event,In Store Event,Special Event
ATTACH;FMTTYPE=image/png:https://victorycigars.ca/wp-content/uploads/2020/12/MacanudoBourbon650Main.png
END:VEVENT
BEGIN:VEVENT
DTSTART;VALUE=DATE:20170812
DTEND;VALUE=DATE:20170813
DTSTAMP:20260423T165621
CREATED:20170726T153211Z
LAST-MODIFIED:20250428T173603Z
UID:90615-1502496000-1502582399@victorycigars.ca
SUMMARY:LFD + Kevin's Birthday Party
DESCRIPTION:LFD Aug 12th  will be Kevin’s Birthday Party with LFD and Tony Gomez. \nTony Gomez (Son of Litto) will be in the store! This will be Tony’s first trip to Canada. \nWe will have more info for you soon! Save The DATE!
URL:https://victorycigars.ca/event/lfd-kevins-birthday-party/
LOCATION:ONTARIO
CATEGORIES:Cigar Event,In Store Event,Special Event
ATTACH;FMTTYPE=:
END:VEVENT
BEGIN:VEVENT
DTSTART;TZID=America/Toronto:20170722T120000
DTEND;TZID=America/Toronto:20170722T150000
DTSTAMP:20260423T165621
CREATED:20170710T141105Z
LAST-MODIFIED:20250428T173505Z
UID:90612-1500724800-1500735600@victorycigars.ca
SUMMARY:Food Truck Saturday
DESCRIPTION:Food Truck Saturday with Diana from Kretek. Food from 12 till 3 pm! Event runs 11 until 5pm in the store for the cigar deals. \nBuy 4 Rocky Patel cigars get one for a penny and get a free gourmet poutine! \n(Poutine available from noon till 3) \nLots of great prizes. \nStop by and see us for lunch while you pick up your cigars today.  Featuring a food truck to help you beat the Hangry.
URL:https://victorycigars.ca/event/food-truck-saturday/
LOCATION:ONTARIO
CATEGORIES:In Store Event,Special Event
ATTACH;FMTTYPE=:
ORGANIZER;CN="Victory Cigars":MAILTO:gillian@victorycigars.ca
END:VEVENT
BEGIN:VEVENT
DTSTART;TZID=America/Toronto:20170710T080000
DTEND;TZID=America/Toronto:20170714T170000
DTSTAMP:20260423T165621
CREATED:20170404T180510Z
LAST-MODIFIED:20250428T173438Z
UID:90589-1499673600-1500051600@victorycigars.ca
SUMMARY:85th Annual IPCPR 2017 - Las Vegas Convention Center
DESCRIPTION:The IPCPR Annual Convention & Trade Show is the most important event of the year for tobacconists!\nWe can’t wait to bring back the best finds from this year’s show for you\, our valued customers.  \n\n\nThe trade show is not open to the public but to licensed tobacconists.  More information can be found here: \nIPCPR 2017\n 
URL:https://victorycigars.ca/event/85th-annual-ipcpr-2017-las-vegas-convention-center/
LOCATION:Alec Bradley Medalist Toro – Single
CATEGORIES:Special Event
END:VEVENT
BEGIN:VEVENT
DTSTART;VALUE=DATE:20170626
DTEND;VALUE=DATE:20170627
DTSTAMP:20260423T165621
CREATED:20170501T170742Z
LAST-MODIFIED:20250428T173327Z
UID:90604-1498435200-1498521599@victorycigars.ca
SUMMARY:3rd Annual Alec Bradley Classic Golf Tournament
DESCRIPTION:Join us for the Third Annual Alec Bradley Classic.  Held at Brampton Golf and Country Club\, on June 26\, 2017.  Lunch is at 11am and there will be a shotgun start at 1:15pm. Foursome cost is $1100\, individuals are $220.  The day is to raise money for the Plasencia School Fund in Nicaragua.  Lots of cigars\, prizes\, a silent auction and more.  Meet Alan Rubin from Alec Bradley and Dean Parsons from Epic Cigars.  Call soon\, this one sells out quick! 289-360-3490
URL:https://victorycigars.ca/event/3rd-annual-alec-bradley-classic-golf-tournament/
LOCATION:ONTARIO
CATEGORIES:Golf Event,Special Event
END:VEVENT
BEGIN:VEVENT
DTSTART;TZID=America/Toronto:20170603T110000
DTEND;TZID=America/Toronto:20170603T160000
DTSTAMP:20260423T165621
CREATED:20170412T204206Z
LAST-MODIFIED:20250428T173053Z
UID:90599-1496487600-1496505600@victorycigars.ca
SUMMARY:Official Canadian Launch For The New Matilde Cigars At Victory Cigars
DESCRIPTION:Saturday June 3rd Enrique Seijas will be here from 11:00 am till 4:00 PM. It is the official Canadian launch of the new Matilde cigars. The Oscura and the Quadrata are new brands in Canada. Great prizes and specials on all Matilde cigars. \nThe Matilde Quadrata Toro is rated 89 in Cigar Aficionado\, and is a Medium-Full cigar. \nThe Matilde Oscura Toro is rated 89 as well\, and is also a Medium-Full cigar. \n  \n 
URL:https://victorycigars.ca/event/official-canadian-launch-new-matilde-cigars-victory-cigars/
LOCATION:ONTARIO
CATEGORIES:Cigar Event,In Store Event,Special Event
ATTACH;FMTTYPE=:
END:VEVENT
BEGIN:VEVENT
DTSTART;TZID=America/Toronto:20170513T100000
DTEND;TZID=America/Toronto:20170513T160000
DTSTAMP:20260423T165621
CREATED:20170501T164159Z
LAST-MODIFIED:20250428T172845Z
UID:90603-1494669600-1494691200@victorycigars.ca
SUMMARY:Rocky Patel Event With Christopher Mey
DESCRIPTION:Join us here at Victory Cigars on Saturday Mey 13th for a Rocky Patel event featuring special guest Christopher Mey\, Rocky Patel’s International Sales Manager.  The event starts at 10am and runs all day until 4pm.  Will will have a ton of great deals on Rocky Patel cigars and also a special treat – a British Scorpion tank will be on site.  The perfect Saturday here at VC! So come down\, meet Christopher\, get some great deals and support the Oshawa Tank Museum while you are at it.
URL:https://victorycigars.ca/event/rocky-patel-event-christopher-mey/
LOCATION:ONTARIO
CATEGORIES:Cigar Event,In Store Event,Special Event
ATTACH;FMTTYPE=:
END:VEVENT
BEGIN:VEVENT
DTSTART;TZID=America/Toronto:20170511T180000
DTEND;TZID=America/Toronto:20170511T233000
DTSTAMP:20260423T165621
CREATED:20170412T210451Z
LAST-MODIFIED:20250428T172821Z
UID:90600-1494525600-1494545400@victorycigars.ca
SUMMARY:2nd Annual Cigar Night Under The Stars
DESCRIPTION:2nd Annual Cigar Night Under The Stars\, presented by Kretek. \n$155 per person taxes included. \nFood\, drinks\, raffles/prizes\, live entertainment\, as well as: \n2 Rocky Patel Cigars \n2 Mombacho Cigars \n2 Ventura Cigars \n2 CLE/Asylum Cigars \n2 Cusano Cigars \nCigar Box\, cutter\, and swag! \nHappening May 11 at 6pm onwards.  Join us!
URL:https://victorycigars.ca/event/2nd-annual-cigar-night-stars/
LOCATION:Victory Cigars Inc\, 215 KING STREET EAST\, OSHAWA\, ONTARIO\, L1H1C5\, Canada
CATEGORIES:Cigar Event,Special Event
ATTACH;FMTTYPE=:
END:VEVENT
BEGIN:VEVENT
DTSTART;TZID=America/Toronto:20170410T100000
DTEND;TZID=America/Toronto:20170423T170000
DTSTAMP:20260423T165621
CREATED:20170412T201052Z
LAST-MODIFIED:20250428T172238Z
UID:90597-1491818400-1492966800@victorycigars.ca
SUMMARY:Camacho Cigar Of The Week - Draw For Awesome Swag
DESCRIPTION: Camacho is our Cigar Of The Week for the next two weeks. Each stick purchased gets you in the draw to win great swag- t-shirts\, beer glasses\, ashtrays and more! \nCamacho Triple Maduro 6×54 (shown) –\nTasting Note: A shapely cigar that swells in the middle and tapers at both ends. The smoke is dense and earthy with some underlying herbal notes that show touches of pistachio and leather. \nBody: Medium-Full\nSize: Figurado\nRing Gauge: 54\nLength: 6″\nFiller: Honduras\, Dom. Rep.\, Brazil\nBinder: Honduras\nWrapper: Mexico\nCamacho Ecuador 6×60 – \nTasting Note: This dark\, thick and oily cigar has a core of cedar complemented by faint herbal impressions. The finish is a bit tangy. A simple but tasty smoke. \nBody: Medium\nSize: Grande\nRing Gauge: 60\nLength: 6″\nFiller: Honduras\, Dominican Republic\nBinder: Brazil\nWrapper: Ecuador\nCamacho Connecticut Robusto 5×50 –\nCamacho Connecticut Robusto Cigars are a smooth\, mild to medium bodied cigar that delivers a spicy\, yet mild-mannered smoking experience. Comprised of a Connecticut Shade wrapper grown in Ecuador\, a Honduran binder and Dominican/Honduran long filler tobacco\, this cigar is the tamest Camacho to date. Camacho is full of surprises\, even the price is surprising for such a well-balanced and luxurious smoke. \n 
URL:https://victorycigars.ca/event/camacho-cigar-week-draw-awesome-swag/
LOCATION:ONTARIO
CATEGORIES:Cigar Of The Week,Special Event
ATTACH;FMTTYPE=image/png:https://victorycigars.ca/wp-content/uploads/2020/09/NeyaBigJackSingle.png
END:VEVENT
BEGIN:VEVENT
DTSTART;TZID=America/Toronto:20170409T090000
DTEND;TZID=America/Toronto:20170409T123000
DTSTAMP:20260423T165621
CREATED:20170404T214948Z
LAST-MODIFIED:20250428T171932Z
UID:90593-1491728400-1491741000@victorycigars.ca
SUMMARY:Government of Canada to mark 100th anniversary of the Battle of Vimy Ridge
DESCRIPTION:“A century later\, we continue to honour the service and sacrifice of the brave young men and women\, at home and abroad\, during the First World War. The four-day Battle of Vimy Ridge\, which began early on April 9\, 1917\, was the first time all four divisions of the Canadian Corps fought together as one formation. The Canadian victory at Vimy Ridge is considered a historic moment that helped define Canada and the people we are today.” \nThe Honourable Kent Hehr\, Minister of Veterans Affairs and Associate Minister of National Defence \nWatch the ceremonies live on the CBC Sunday April 9th!  \nPeter Mansbridge will host live from France starting at 9am! \nLook for Victory Cigars’ very own in a red jacket…we’ve got one of our family repping us at this emotional and important event – Julian’s daughter is in France for the ceremony.
URL:https://victorycigars.ca/event/government-canada-mark-100th-anniversary-battle-vimy-ridge/
LOCATION:Victory Cigars Inc\, 215 KING STREET EAST\, OSHAWA\, ONTARIO\, L1H1C5\, Canada
CATEGORIES:Special Event
END:VEVENT
BEGIN:VEVENT
DTSTART;TZID=America/Toronto:20170408T110000
DTEND;TZID=America/Toronto:20170408T170000
DTSTAMP:20260423T165621
CREATED:20170404T170607Z
LAST-MODIFIED:20250428T171900Z
UID:90584-1491649200-1491670800@victorycigars.ca
SUMMARY:Espinosa #5 Event
DESCRIPTION:Join us Saturday April 8th at 11am to 5pm for another great cigar event! \nThis time we feature the Espinosa #5\, a Nicaraguan Corona Gorda. Cigar Aficionado rates this one a 91. \nLots of great deals + pricing on these cigars Saturday.  Stop by and see why we think this cigar is well worth your time.
URL:https://victorycigars.ca/event/espinosa-5-event/
LOCATION:ONTARIO
CATEGORIES:Cigar Event,Special Event
ATTACH;FMTTYPE=:
END:VEVENT
BEGIN:VEVENT
DTSTART;TZID=America/Toronto:20170330T183000
DTEND;TZID=America/Toronto:20170330T213000
DTSTAMP:20260423T165621
CREATED:20170327T221907Z
LAST-MODIFIED:20250428T171743Z
UID:90577-1490898600-1490909400@victorycigars.ca
SUMMARY:Fourth Anniversary of the Lakeshore Smokestacks Pipe Club
DESCRIPTION:From everyone here at VC\, we’d like to wish the ladies and gentlemen of the \nLakeshore Smokestacks Pipe Club a very happy fourth anniversary! \nAll are welcome to join in the fun starting at 6:30pm tonight at Victory Cigars.
URL:https://victorycigars.ca/event/fourth-anniversary-lakeshore-smokestacks-pipe-club/
LOCATION:ONTARIO
CATEGORIES:Pipe Night,Special Event
END:VEVENT
BEGIN:VEVENT
DTSTART;VALUE=DATE:20170227
DTEND;VALUE=DATE:20170304
DTSTAMP:20260423T165621
CREATED:20161128T140031Z
LAST-MODIFIED:20250428T171720Z
UID:90571-1488153600-1488585599@victorycigars.ca
SUMMARY:Festival del Habano Cigar
DESCRIPTION:Cuba once more\, will be the venue of the largest international gathering of enthusiasts of the best cigar in the world. Habano Cigars to be celebrated in the Gala Dinner of the 2017 Habanos Festival. \n• Visits to Habanos tobacco plantations in Vuelta Abajo\n• Visits to emblematic Habanos factories\n• Habanos Commercial Fair\n• International Habanosommelier Contest\n• Master Class on the cigar hand rolling technique \nThe opening event will take place in February 27th.\nWelcome evening at Club Habana\, which includes an exclusive concert of Cuban artists. \nThe Nominations to the Habanos Award of the Year will also be announced\, finally there will be a Welcome Cocktail dedicated to the Cohiba cigars\nThe best soil for this crop is located in western Pinar del Rio province – especially in Vueltabajo\, which is considered the region of the world’s best tobacco. \nThe meeting gathers up thousands of people from the entire world\, with commercial showcase\, tasting\, masterly lectures\, tours to cigar plantations and cigar factories\, where ideas and experiences are exchanged as well as the Habanos novelties are presented.
URL:https://victorycigars.ca/event/festival-del-habano-cigar/
LOCATION:Victory Cigars Inc\, 215 KING STREET EAST\, OSHAWA\, ONTARIO\, L1H1C5\, Canada
CATEGORIES:Special Event
ORGANIZER;CN="Victory Cigars":MAILTO:gillian@victorycigars.ca
END:VEVENT
BEGIN:VEVENT
DTSTART;VALUE=DATE:20170219
DTEND;VALUE=DATE:20170225
DTSTAMP:20260423T165621
CREATED:20161128T135521Z
LAST-MODIFIED:20250428T171500Z
UID:145-1487462400-1487980799@victorycigars.ca
SUMMARY:Procigar Festival
DESCRIPTION:The Procigar Festival is a truly unique and memorable experience unmatched in the cigar industry that beautifully combines educational opportunities\, entertainment\, leisure activities\, loads of premium cigar smoking and a lifetime of memories. One of the Festival’s most compelling attractions is that it allows guests to have one-on-one dialogues with the industry’s biggest cigar makers all the while smoking their cigars and fraternizing with an international community of like-minded enthusiasts in an unprecedented way – cigar manufacturers\, retailers and consumers.  This event takes place in the Dominican Republic.
URL:https://victorycigars.ca/event/procigar-festival/
LOCATION:Victory Cigars Inc\, 215 KING STREET EAST\, OSHAWA\, ONTARIO\, L1H1C5\, Canada
CATEGORIES:Special Event
ATTACH;FMTTYPE=image/jpeg:https://victorycigars.ca/wp-content/uploads/2020/03/p-3598-MACCruRoyRob430x480.jpg
END:VEVENT
BEGIN:VEVENT
DTSTART;VALUE=DATE:20170116
DTEND;VALUE=DATE:20170122
DTSTAMP:20260423T165621
CREATED:20161128T135348Z
LAST-MODIFIED:20250428T171359Z
UID:143-1484524800-1485043199@victorycigars.ca
SUMMARY:Nicaraguan Cigar Festival
DESCRIPTION:The Nicaraguan Cigar Festival is the premier event in Esteli\, Central America’s Cigar capital.  This 6 day event takes you from Managua to Granada and Esteli.
URL:https://victorycigars.ca/event/nicaraguan-cigar-festival/
LOCATION:Victory Cigars Inc\, 215 KING STREET EAST\, OSHAWA\, ONTARIO\, L1H1C5\, Canada
CATEGORIES:Special Event
ATTACH;FMTTYPE=image/jpeg:https://victorycigars.ca/wp-content/uploads/2020/03/p-3596-MAC1968Gig430x480.jpg
ORGANIZER;CN="Victory Cigars":MAILTO:gillian@victorycigars.ca
END:VEVENT
BEGIN:VEVENT
DTSTART;TZID=America/Toronto:20161212T110000
DTEND;TZID=America/Toronto:20161212T160000
DTSTAMP:20260423T165621
CREATED:20161128T134656Z
LAST-MODIFIED:20250428T171022Z
UID:141-1481540400-1481558400@victorycigars.ca
SUMMARY:My Father Cigars Event
DESCRIPTION:Join Simon and Omar from House of Horvath as we have our annual My Father cigar event. We will offer up some great My Father and Tatuaje cigars and great new prices never seen before! Prizes galore!!
URL:https://victorycigars.ca/event/my-father-cigars-event/
LOCATION:ONTARIO
CATEGORIES:Special Event
END:VEVENT
END:VCALENDAR